BEGIN:VCALENDAR
VERSION:2.0
PRODID:-//Župnija Lj.-Trnovo - ECPv5.10.1//NONSGML v1.0//EN
CALSCALE:GREGORIAN
METHOD:PUBLISH
X-WR-CALNAME:Župnija Lj.-Trnovo
X-ORIGINAL-URL:https://zupnija.trnovo.info
X-WR-CALDESC:Events for Župnija Lj.-Trnovo
BEGIN:VTIMEZONE
TZID:Europe/Ljubljana
BEGIN:DAYLIGHT
TZOFFSETFROM:+0100
TZOFFSETTO:+0200
TZNAME:CEST
DTSTART:20200329T010000
END:DAYLIGHT
BEGIN:STANDARD
TZOFFSETFROM:+0200
TZOFFSETTO:+0100
TZNAME:CET
DTSTART:20201025T010000
END:STANDARD
END:VTIMEZONE
BEGIN:VEVENT
DTSTART;VALUE=DATE:20201129
DTEND;VALUE=DATE:20201130
DTSTAMP:20260422T221636
CREATED:20201107T202557Z
LAST-MODIFIED:20201128T173609Z
UID:834-1606608000-1606694399@zupnija.trnovo.info
SUMMARY:1. adventna nedelja- nedelja Karitas
DESCRIPTION:Čuječnost je velika človeška vrlina. Lahko bi jo imenovali tudi zavest Božje navzočnosti. Na začetku adventnega časa nas Cerkev spodbuja\, naj “pazimo in čujemo\, ker ne vemo\, kdaj pride čas” (Mr 13\,33). Kratkoročno ima pred seboj Božič\, prvi Jezusov prihod. Dolgoročno pa našo osebno smrt\, ko bo Jezus drugič prišel po nas. Kaj mu bomo podarili?
URL:https://zupnija.trnovo.info/dogodek/1-adventna-nedelja-nedelja-karitas/
LOCATION:Kolezijska ulica 1\, Ljubljana
CATEGORIES:IZPOSTAVLJENO
END:VEVENT
END:VCALENDAR