BEGIN:VCALENDAR
VERSION:2.0
PRODID:-//Župnija Lj.-Trnovo - ECPv5.10.1//NONSGML v1.0//EN
CALSCALE:GREGORIAN
METHOD:PUBLISH
X-WR-CALNAME:Župnija Lj.-Trnovo
X-ORIGINAL-URL:https://zupnija.trnovo.info
X-WR-CALDESC:Events for Župnija Lj.-Trnovo
BEGIN:VTIMEZONE
TZID:Europe/Ljubljana
BEGIN:DAYLIGHT
TZOFFSETFROM:+0100
TZOFFSETTO:+0200
TZNAME:CEST
DTSTART:20190331T010000
END:DAYLIGHT
BEGIN:STANDARD
TZOFFSETFROM:+0200
TZOFFSETTO:+0100
TZNAME:CET
DTSTART:20191027T010000
END:STANDARD
END:VTIMEZONE
BEGIN:VEVENT
DTSTART;TZID=Europe/Ljubljana:20190622T200000
DTEND;TZID=Europe/Ljubljana:20190622T210000
DTSTAMP:20260422T172823
CREATED:20211214T100316Z
LAST-MODIFIED:20211214T100458Z
UID:15898-1561233600-1561237200@zupnija.trnovo.info
SUMMARY:3. poletni orgelski ciklus Franc Goršič 2019
DESCRIPTION:
URL:https://zupnija.trnovo.info/dogodek/3-poletni-orgelski-ciklus-franc-gorsic-2019/2019-06-22/
CATEGORIES:Finžgarjeva galerija,IZPOSTAVLJENO,Kultura in druženje
ATTACH;FMTTYPE=image/jpeg:https://zupnija.trnovo.info/wp-content/uploads/2021/09/20190604_3_orgelski_ciklus.jpg
END:VEVENT
END:VCALENDAR