BEGIN:VCALENDAR
VERSION:2.0
PRODID:-//Župnija Lj.-Trnovo - ECPv5.10.1//NONSGML v1.0//EN
CALSCALE:GREGORIAN
METHOD:PUBLISH
X-WR-CALNAME:Župnija Lj.-Trnovo
X-ORIGINAL-URL:https://zupnija.trnovo.info
X-WR-CALDESC:Events for Župnija Lj.-Trnovo
BEGIN:VTIMEZONE
TZID:Europe/Ljubljana
BEGIN:DAYLIGHT
TZOFFSETFROM:+0100
TZOFFSETTO:+0200
TZNAME:CEST
DTSTART:20220327T010000
END:DAYLIGHT
BEGIN:STANDARD
TZOFFSETFROM:+0200
TZOFFSETTO:+0100
TZNAME:CET
DTSTART:20221030T010000
END:STANDARD
END:VTIMEZONE
BEGIN:VEVENT
DTSTART;TZID=Europe/Ljubljana:20220605T100000
DTEND;TZID=Europe/Ljubljana:20220605T160000
DTSTAMP:20260420T234309
CREATED:20220525T075037Z
LAST-MODIFIED:20220525T075039Z
UID:19407-1654423200-1654444800@zupnija.trnovo.info
SUMMARY:BINKOŠTI\, praznik Svetega Duha\, Dan družin in zaključek veroučnega leta
DESCRIPTION:
URL:https://zupnija.trnovo.info/dogodek/binkosti-praznik-svetega-duha-dan-druzin-in-zakljucek-veroucnega-leta/
CATEGORIES:Nedelje in prazniki
ATTACH;FMTTYPE=image/jpeg:https://zupnija.trnovo.info/wp-content/uploads/2022/05/Dan-druzin-2022_vabilo-in-plakat_brez-porezave_fin.jpg
END:VEVENT
END:VCALENDAR