BEGIN:VCALENDAR
VERSION:2.0
PRODID:-//Župnija Lj.-Trnovo - ECPv5.10.1//NONSGML v1.0//EN
CALSCALE:GREGORIAN
METHOD:PUBLISH
X-WR-CALNAME:Župnija Lj.-Trnovo
X-ORIGINAL-URL:https://zupnija.trnovo.info
X-WR-CALDESC:Events for Župnija Lj.-Trnovo
BEGIN:VTIMEZONE
TZID:Europe/Ljubljana
BEGIN:DAYLIGHT
TZOFFSETFROM:+0100
TZOFFSETTO:+0200
TZNAME:CEST
DTSTART:20210328T010000
END:DAYLIGHT
BEGIN:STANDARD
TZOFFSETFROM:+0200
TZOFFSETTO:+0100
TZNAME:CET
DTSTART:20211031T010000
END:STANDARD
END:VTIMEZONE
BEGIN:VEVENT
DTSTART;TZID=Europe/Ljubljana:20210328T000000
DTEND;TZID=Europe/Ljubljana:20210328T235900
DTSTAMP:20260423T001909
CREATED:20210307T202450Z
LAST-MODIFIED:20210327T144834Z
UID:2929-1616889600-1616975940@zupnija.trnovo.info
SUMMARY:Cvetna nedelja\, procesija\, pasjon
DESCRIPTION:Jezus\, v tvojem življenju ponovno najdemo samega sebe: naša moč in veselje se obnovita\, naš obup in strah sta premagana.Gospod\, dovoli\, da vstopimo v tvoje in v naše mesto. Tudi mi vemo\, kaj nas čaka: predsodki\, odklanjanje\, napetosti … Daj nam delček svoje dobrote\, tvojo odprtost\, tvojo neustrašenost\, da bomo tudi mi lahko v našem mestu naše bližnje osvobodili slehernega strahu. Ne boj se\, Trnovo\, Vič\, Šiška\, Šentvid\, ne boj se hiša mojega soseda\, mojih otrok\, ne bojte se moji prijatelji: naš kralj prihaja; sedi na oslovem hrbtu. Nič se ne boj\, moja hiša\, moje srce\, ampak se veseli\, kajti tvoj kralj prihaja.Dom Janeza Krstnika\, Kolezijska 1 A:Spovedovanje in maša bo v soboto\, 27. marca 2021 ob 15.00.Župnijska cerkev Trnovo:Maše Cvetne nedelje\, 28. marec 2021\, bodo ob 8.00\, ob 10.00 in ob 19.00vedno z branim pasijonom. Med vsemi mašami bo tudi spovedovanje. \n\n\n\n\n\n \n\n\n\nOglejte si koledar v pdf.
URL:https://zupnija.trnovo.info/dogodek/cvetna-nedelja-procesija-pasjon/
CATEGORIES:IZPOSTAVLJENO,Nedelje in prazniki
ATTACH;FMTTYPE=image/jpeg:https://zupnija.trnovo.info/wp-content/uploads/2021/03/Cvetna-nedelja.jpg
END:VEVENT
END:VCALENDAR