BEGIN:VCALENDAR
VERSION:2.0
PRODID:-//Župnija Lj.-Trnovo - ECPv5.10.1//NONSGML v1.0//EN
CALSCALE:GREGORIAN
METHOD:PUBLISH
X-WR-CALNAME:Župnija Lj.-Trnovo
X-ORIGINAL-URL:https://zupnija.trnovo.info
X-WR-CALDESC:Events for Župnija Lj.-Trnovo
BEGIN:VTIMEZONE
TZID:Europe/Ljubljana
BEGIN:DAYLIGHT
TZOFFSETFROM:+0100
TZOFFSETTO:+0200
TZNAME:CEST
DTSTART:20250330T010000
END:DAYLIGHT
BEGIN:STANDARD
TZOFFSETFROM:+0200
TZOFFSETTO:+0100
TZNAME:CET
DTSTART:20251026T010000
END:STANDARD
END:VTIMEZONE
BEGIN:VEVENT
DTSTART;TZID=Europe/Ljubljana:20250518T100000
DTEND;TZID=Europe/Ljubljana:20250518T130000
DTSTAMP:20260422T151249
CREATED:20250505T064859Z
LAST-MODIFIED:20250505T070150Z
UID:33622-1747562400-1747573200@zupnija.trnovo.info
SUMMARY:DAN SLUŽENJA
DESCRIPTION:To je dan\, ko simbolično pokažemo\, da so naše največje bogastvo duhovnega življenja stari\, betežni\, one-mogli\, bolni\, invalidni\, duševno prizadeti in vsi\, ki potrebujejo našo posebno nego in skrb. Zrelost posameznika in župnijske skupnosti je predvsem v tem\, kakšen odnos imamo do njih in kaj storimo zanje.
URL:https://zupnija.trnovo.info/dogodek/dan-sluzenja-4/
CATEGORIES:Dobrodelnost,Duhovnost in druženje
END:VEVENT
END:VCALENDAR