BEGIN:VCALENDAR
VERSION:2.0
PRODID:-//Župnija Lj.-Trnovo - ECPv5.10.1//NONSGML v1.0//EN
CALSCALE:GREGORIAN
METHOD:PUBLISH
X-WR-CALNAME:Župnija Lj.-Trnovo
X-ORIGINAL-URL:https://zupnija.trnovo.info
X-WR-CALDESC:Events for Župnija Lj.-Trnovo
BEGIN:VTIMEZONE
TZID:Europe/Ljubljana
BEGIN:DAYLIGHT
TZOFFSETFROM:+0100
TZOFFSETTO:+0200
TZNAME:CEST
DTSTART:20230326T010000
END:DAYLIGHT
BEGIN:STANDARD
TZOFFSETFROM:+0200
TZOFFSETTO:+0100
TZNAME:CET
DTSTART:20231029T010000
END:STANDARD
END:VTIMEZONE
BEGIN:VEVENT
DTSTART;TZID=Europe/Ljubljana:20230906T200000
DTEND;TZID=Europe/Ljubljana:20230906T220000
DTSTAMP:20260422T213034
CREATED:20230806T153254Z
LAST-MODIFIED:20230902T090843Z
UID:27625-1694030400-1694037600@zupnija.trnovo.info
SUMMARY:DFG : KONZERVA – pogovorni večer o dialogu
DESCRIPTION:V sredo\, 6. septembra ob 20.00 uri vabljeni na zanimiv pogovorni večer o dialogu pod paviljon Agape z naslovom RAZLIČNOST – BOGASTVO ALI NEPREMOSTLJIVA OVIRA. Z zelo različnimi in zanimivimi gosti cerkvenega\, družbenega in političnega življenja\, Petrom Gregorčičem\, Primožem Cirmanom\, Nino Krajnik in Janom Dominikom Bogatajem se bo pogovarjal radovedni voditelj Janez Zupan (KONZERVA). \n\n\n\nPogovorni večer\, na katerem bodo različno misleči razpravljali in razdelovali stopnje in faze dialoga v katerih se nahajamo. Stanje v družbi je vedno bolj alarmantno. Ne moremo se več zediniti v praktično nobeni niti najpomembnejši družbeni temi\, ki bi nas lahko pripeljala iz zagate nedialoškosti. Ali je to sploh možno preseči? Kakšne so lahko kratkoročne in kakšne dolgoročne rešitve? Je pravi izhod iz zagate getoizacija različnih svetovnih nazorov? Kakšen pomen ima sploh še cerkev\, kakšnega država in državotvornost? \n\n\n\nKonzerva v Trnovem je odprt koncept pogovora. Sodelujoči v razpravi na poljuden način razpravljajo o pomembnih tematikah\, z osnovno premiso dialoga. Strpnost seveda ni dovolj\, potreben je dialog in v spontanem pogovoru se rojevajo zamislice\, ki lahko pomagajo družbi prebroditi turbulentne čase.Prisrčno vabljeni! \n\n\n\n\n\n\n\nVideo: DFG-KONZERVA 2022 >>
URL:https://zupnija.trnovo.info/dogodek/dfg-konzerva-pogovorni-vecer-pod-paviljonom/
CATEGORIES:Kultura in druženje,Pogovorni večer
ATTACH;FMTTYPE=image/jpeg:https://zupnija.trnovo.info/wp-content/uploads/2023/08/2023-trnovo-konzerva-jpg-napoved.jpg
END:VEVENT
END:VCALENDAR