BEGIN:VCALENDAR
VERSION:2.0
PRODID:-//Župnija Lj.-Trnovo - ECPv5.10.1//NONSGML v1.0//EN
CALSCALE:GREGORIAN
METHOD:PUBLISH
X-WR-CALNAME:Župnija Lj.-Trnovo
X-ORIGINAL-URL:https://zupnija.trnovo.info
X-WR-CALDESC:Events for Župnija Lj.-Trnovo
BEGIN:VTIMEZONE
TZID:Europe/Ljubljana
BEGIN:DAYLIGHT
TZOFFSETFROM:+0100
TZOFFSETTO:+0200
TZNAME:CEST
DTSTART:20220327T010000
END:DAYLIGHT
BEGIN:STANDARD
TZOFFSETFROM:+0200
TZOFFSETTO:+0100
TZNAME:CET
DTSTART:20221030T010000
END:STANDARD
END:VTIMEZONE
BEGIN:VEVENT
DTSTART;TZID=Europe/Ljubljana:20221009T170000
DTEND;TZID=Europe/Ljubljana:20221009T190000
DTSTAMP:20260422T135121
CREATED:20220920T075143Z
LAST-MODIFIED:20250223T210057Z
UID:22118-1665334800-1665342000@zupnija.trnovo.info
SUMMARY:DFG: Ogled znamenitosti Trnovega
DESCRIPTION:V nedeljo\, 9. 10. ob 17. uri društvo Finžgarjeva galerija v okviru dnevov Četrtne skupnosti Trnovo organizira pod vodstvom Mateje Kregar Gliha ogled znamenitosti Trnovega. Dobimo se pred cerkvijo.Vabljeni!
URL:https://zupnija.trnovo.info/dogodek/dfg-ogled-znamenitosti-trnovega/
CATEGORIES:DFG,Dnevi Četrtne skupnosti Trnovo,Finžgarjeva galerija,Kultura in druženje
ATTACH;FMTTYPE=image/jpeg:https://zupnija.trnovo.info/wp-content/uploads/2022/09/20221009_Voden-ogled-po-Trnovem_Mateja-Kregar-Gliha-2.jpg
END:VEVENT
END:VCALENDAR