BEGIN:VCALENDAR
VERSION:2.0
PRODID:-//Župnija Lj.-Trnovo - ECPv5.10.1//NONSGML v1.0//EN
CALSCALE:GREGORIAN
METHOD:PUBLISH
X-WR-CALNAME:Župnija Lj.-Trnovo
X-ORIGINAL-URL:https://zupnija.trnovo.info
X-WR-CALDESC:Events for Župnija Lj.-Trnovo
BEGIN:VTIMEZONE
TZID:Europe/Ljubljana
BEGIN:DAYLIGHT
TZOFFSETFROM:+0100
TZOFFSETTO:+0200
TZNAME:CEST
DTSTART:20240331T010000
END:DAYLIGHT
BEGIN:STANDARD
TZOFFSETFROM:+0200
TZOFFSETTO:+0100
TZNAME:CET
DTSTART:20241027T010000
END:STANDARD
BEGIN:DAYLIGHT
TZOFFSETFROM:+0100
TZOFFSETTO:+0200
TZNAME:CEST
DTSTART:20250330T010000
END:DAYLIGHT
BEGIN:STANDARD
TZOFFSETFROM:+0200
TZOFFSETTO:+0100
TZNAME:CET
DTSTART:20251026T010000
END:STANDARD
END:VTIMEZONE
BEGIN:VEVENT
DTSTART;TZID=Europe/Ljubljana:20241231T235900
DTEND;TZID=Europe/Ljubljana:20250101T010000
DTSTAMP:20260423T190139
CREATED:20241230T112147Z
LAST-MODIFIED:20241230T112148Z
UID:32763-1735689540-1735693200@zupnija.trnovo.info
SUMMARY:DRUGI SVETI VEČER
DESCRIPTION:Na drugi sveti večer\, 31. decembra 2024 ob 24. uri bo druga polnočnica\, s katero se želimo vsako leto zahvaliti za 365 bogatih in lepih dni. Vabljeni ste vsi\, ki čutite posebno hvaležnost Bogu. Sledilo bo Novo leto\, ki je v Cerkvi predvsem praznik Božje Matere Marije. Maše bodo ob 8.00 in ob 19.00. „Z Bogom začni novo leto\, da bo dober tek imelo!“
URL:https://zupnija.trnovo.info/dogodek/drugi-sveti-vecer-2/
END:VEVENT
END:VCALENDAR