BEGIN:VCALENDAR
VERSION:2.0
PRODID:-//Župnija Lj.-Trnovo - ECPv5.10.1//NONSGML v1.0//EN
CALSCALE:GREGORIAN
METHOD:PUBLISH
X-WR-CALNAME:Župnija Lj.-Trnovo
X-ORIGINAL-URL:https://zupnija.trnovo.info
X-WR-CALDESC:Events for Župnija Lj.-Trnovo
BEGIN:VTIMEZONE
TZID:Europe/Ljubljana
BEGIN:DAYLIGHT
TZOFFSETFROM:+0100
TZOFFSETTO:+0200
TZNAME:CEST
DTSTART:20230326T010000
END:DAYLIGHT
BEGIN:STANDARD
TZOFFSETFROM:+0200
TZOFFSETTO:+0100
TZNAME:CET
DTSTART:20231029T010000
END:STANDARD
END:VTIMEZONE
BEGIN:VEVENT
DTSTART;TZID=Europe/Ljubljana:20231231T190000
DTEND;TZID=Europe/Ljubljana:20231231T235900
DTSTAMP:20260424T221819
CREATED:20231203T194605Z
LAST-MODIFIED:20231203T194606Z
UID:29327-1704049200-1704067140@zupnija.trnovo.info
SUMMARY:Drugi Sveti večer
DESCRIPTION:Drugi Sveti večer bo v nedeljo\, 31. decembra. Ob 24. uri bo novoletna polnočnica. Praznujemo Novo leto\, praznik sv. Družine. Večerna maša bo spremljana s klasično glasbo. \n\n\n\nZa letošnje božično-novoletne praznike Vam želimo uspešno praznovanje Božjega učlovečenja in veselje\, da lahko za Jezusa naredimo nekaj lepega\, če ga priporočamo drug drugemu in ga sprejemamo z Njegovim sporočilom. Naj Vas misijonska misel in želja spremlja vse dni NOVEGA LETA 2024!   
URL:https://zupnija.trnovo.info/dogodek/drugi-sveti-vecer/
END:VEVENT
END:VCALENDAR