BEGIN:VCALENDAR
VERSION:2.0
PRODID:-//Župnija Lj.-Trnovo - ECPv5.10.1//NONSGML v1.0//EN
CALSCALE:GREGORIAN
METHOD:PUBLISH
X-WR-CALNAME:Župnija Lj.-Trnovo
X-ORIGINAL-URL:https://zupnija.trnovo.info
X-WR-CALDESC:Events for Župnija Lj.-Trnovo
BEGIN:VTIMEZONE
TZID:Europe/Ljubljana
BEGIN:DAYLIGHT
TZOFFSETFROM:+0100
TZOFFSETTO:+0200
TZNAME:CEST
DTSTART:20240331T010000
END:DAYLIGHT
BEGIN:STANDARD
TZOFFSETFROM:+0200
TZOFFSETTO:+0100
TZNAME:CET
DTSTART:20241027T010000
END:STANDARD
END:VTIMEZONE
BEGIN:VEVENT
DTSTART;TZID=Europe/Ljubljana:20240302T000000
DTEND;TZID=Europe/Ljubljana:20240303T235959
DTSTAMP:20260421T130614
CREATED:20240223T145657Z
LAST-MODIFIED:20240223T145659Z
UID:30412-1709337600-1709510399@zupnija.trnovo.info
SUMMARY:Duhovne vaje za prvo triado v Repnjah
DESCRIPTION:Zberemo se v soboto\, 2.3. ob 9.00 uri v  samostanu šolskih sester v Repnjah 27\, občina Vodice.
URL:https://zupnija.trnovo.info/dogodek/duhovne-vaje-za-prvo-triado-v-repnjah-2/
END:VEVENT
END:VCALENDAR