BEGIN:VCALENDAR
VERSION:2.0
PRODID:-//Župnija Lj.-Trnovo - ECPv5.10.1//NONSGML v1.0//EN
CALSCALE:GREGORIAN
METHOD:PUBLISH
X-WR-CALNAME:Župnija Lj.-Trnovo
X-ORIGINAL-URL:https://zupnija.trnovo.info
X-WR-CALDESC:Events for Župnija Lj.-Trnovo
BEGIN:VTIMEZONE
TZID:Europe/Ljubljana
BEGIN:DAYLIGHT
TZOFFSETFROM:+0100
TZOFFSETTO:+0200
TZNAME:CEST
DTSTART:20230326T010000
END:DAYLIGHT
BEGIN:STANDARD
TZOFFSETFROM:+0200
TZOFFSETTO:+0100
TZNAME:CET
DTSTART:20231029T010000
END:STANDARD
END:VTIMEZONE
BEGIN:VEVENT
DTSTART;TZID=Europe/Ljubljana:20230114T080000
DTEND;TZID=Europe/Ljubljana:20230115T170000
DTSTAMP:20260425T124926
CREATED:20230101T114152Z
LAST-MODIFIED:20230101T114249Z
UID:24317-1673683200-1673802000@zupnija.trnovo.info
SUMMARY:DUHOVNI VIKEND ZA 3. TRIADO Veroučne šole v Repnjah
DESCRIPTION:
URL:https://zupnija.trnovo.info/dogodek/duhovni-vikend-za-3-triado-veroucne-sole-v-repnjah/
CATEGORIES:Kateheza za otroke,Verouk
END:VEVENT
END:VCALENDAR