BEGIN:VCALENDAR
VERSION:2.0
PRODID:-//Župnija Lj.-Trnovo - ECPv5.10.1//NONSGML v1.0//EN
CALSCALE:GREGORIAN
METHOD:PUBLISH
X-WR-CALNAME:Župnija Lj.-Trnovo
X-ORIGINAL-URL:https://zupnija.trnovo.info
X-WR-CALDESC:Events for Župnija Lj.-Trnovo
BEGIN:VTIMEZONE
TZID:Europe/Ljubljana
BEGIN:DAYLIGHT
TZOFFSETFROM:+0100
TZOFFSETTO:+0200
TZNAME:CEST
DTSTART:20250330T010000
END:DAYLIGHT
BEGIN:STANDARD
TZOFFSETFROM:+0200
TZOFFSETTO:+0100
TZNAME:CET
DTSTART:20251026T010000
END:STANDARD
END:VTIMEZONE
BEGIN:VEVENT
DTSTART;TZID=Europe/Ljubljana:20251212T193000
DTEND;TZID=Europe/Ljubljana:20251212T220000
DTSTAMP:20260420T093604
CREATED:20251212T183000Z
LAST-MODIFIED:20251127T055130Z
UID:35240-1765567800-1765576800@zupnija.trnovo.info
SUMMARY:DVE KNJIGI\, DVE ZGODBI
DESCRIPTION:V petek\, 12. decembra\, ob 19.30 bo pogovor med Vikijem Grošljem in Tonetom Komparetom\, ki bosta ob predstavitvi svojih knjig delila spomine iz gora. Dogodek bo v Trnovski cerkvi.
URL:https://zupnija.trnovo.info/dogodek/dve-knjigi-dve-zgodbi/
CATEGORIES:DFG,Duhovnost in druženje,Pogovorni večer,Pogovorni večer
ATTACH;FMTTYPE=image/jpeg:https://zupnija.trnovo.info/wp-content/uploads/2025/11/20251212_Moja-srecanja-z-gorami-Makalu_Kompare-Groselj_naslovna-scaled.jpg
END:VEVENT
END:VCALENDAR