BEGIN:VCALENDAR
VERSION:2.0
PRODID:-//Župnija Lj.-Trnovo - ECPv5.10.1//NONSGML v1.0//EN
CALSCALE:GREGORIAN
METHOD:PUBLISH
X-WR-CALNAME:Župnija Lj.-Trnovo
X-ORIGINAL-URL:https://zupnija.trnovo.info
X-WR-CALDESC:Events for Župnija Lj.-Trnovo
BEGIN:VTIMEZONE
TZID:Europe/Ljubljana
BEGIN:DAYLIGHT
TZOFFSETFROM:+0100
TZOFFSETTO:+0200
TZNAME:CEST
DTSTART:20240331T010000
END:DAYLIGHT
BEGIN:STANDARD
TZOFFSETFROM:+0200
TZOFFSETTO:+0100
TZNAME:CET
DTSTART:20241027T010000
END:STANDARD
END:VTIMEZONE
BEGIN:VEVENT
DTSTART;TZID=Europe/Ljubljana:20241010T180000
DTEND;TZID=Europe/Ljubljana:20241010T200000
DTSTAMP:20260420T175416
CREATED:20241004T073507Z
LAST-MODIFIED:20250223T211349Z
UID:32409-1728583200-1728590400@zupnija.trnovo.info
SUMMARY:EDVARD KOCBEK\, multivizija Lada Jakše
DESCRIPTION:“SEM MISLEC IN UMETNIK”\, večmedijski projekt in koncert Vabljeni v četrtek\, 10.10. 2024 ob 18.00 na multivizijo s sočasnim koncertom avtorske glasbe Lada Jakše.Večmedijska pripoved o poeziji in prozi EDVARDA KOCBEKA\, njegovih aktualnih razmislekih o življenju in družbi\, ki nas intenzivno nagovarjajo tudi v današnjem času. \n\n\n\nVabljeni v Finžgarjevo galerijo!
URL:https://zupnija.trnovo.info/dogodek/edvard-kocbek-multivizija-lada-jakse/
CATEGORIES:DFG,Dnevi Četrtne skupnosti Trnovo,Multivizija
ATTACH;FMTTYPE=image/jpeg:https://zupnija.trnovo.info/wp-content/uploads/2024/10/KOCBEK-2-scaled.jpg
END:VEVENT
END:VCALENDAR