BEGIN:VCALENDAR
VERSION:2.0
PRODID:-//Župnija Lj.-Trnovo - ECPv5.10.1//NONSGML v1.0//EN
CALSCALE:GREGORIAN
METHOD:PUBLISH
X-WR-CALNAME:Župnija Lj.-Trnovo
X-ORIGINAL-URL:https://zupnija.trnovo.info
X-WR-CALDESC:Events for Župnija Lj.-Trnovo
BEGIN:VTIMEZONE
TZID:Europe/Ljubljana
BEGIN:DAYLIGHT
TZOFFSETFROM:+0100
TZOFFSETTO:+0200
TZNAME:CEST
DTSTART:20220327T010000
END:DAYLIGHT
BEGIN:STANDARD
TZOFFSETFROM:+0200
TZOFFSETTO:+0100
TZNAME:CET
DTSTART:20221030T010000
END:STANDARD
END:VTIMEZONE
BEGIN:VEVENT
DTSTART;TZID=Europe/Ljubljana:20220210T180000
DTEND;TZID=Europe/Ljubljana:20220210T200000
DTSTAMP:20260422T153618
CREATED:20220203T072643Z
LAST-MODIFIED:20220311T211453Z
UID:17196-1644516000-1644523200@zupnija.trnovo.info
SUMMARY:DOTIK (NE) DOTAKLJIVEGA - Katja Bednařik Sudec in Evgen Bavčar - razstava
DESCRIPTION:Finžgarjeva galerija vabi na otvoritev razstave Katje Bednařik Sudec in Evgena Bavčarja v četrtek\, 10. 2. 2022 ob 18 uri. Razstava bo na ogled od 10. – 28. februarja 2022. \n\n\n\nFinžgarjeva galerija in DFG  \n\n\n\nOPOZORILO: Prosimo\, da glede COVID-19 upoštevate navodila NIJZ. Organizator lahko dogodek snema in javno objavi. \n\n\n\n\n\n\n\n\n\n\n\n\n\n\n\nSpremni katalog (pdf) >> \n\n\n\n\n\n\n\nSeznam prireditev Finžgarjeve galerije od leta 2019 do danes >>
URL:https://zupnija.trnovo.info/dogodek/fg-dotik-ne-dotakljuvega-katja-bednarik-sudec-in-evgen-bavcar-razstava/
CATEGORIES:Finžgarjeva galerija,IZPOSTAVLJENO,Kultura in druženje
ATTACH;FMTTYPE=image/jpeg:https://zupnija.trnovo.info/wp-content/uploads/2022/02/Dotik-nedotakljivega_FG-VABILO-scaled.jpg
END:VEVENT
END:VCALENDAR