BEGIN:VCALENDAR
VERSION:2.0
PRODID:-//Župnija Lj.-Trnovo - ECPv5.10.1//NONSGML v1.0//EN
CALSCALE:GREGORIAN
METHOD:PUBLISH
X-WR-CALNAME:Župnija Lj.-Trnovo
X-ORIGINAL-URL:https://zupnija.trnovo.info
X-WR-CALDESC:Events for Župnija Lj.-Trnovo
BEGIN:VTIMEZONE
TZID:Europe/Ljubljana
BEGIN:DAYLIGHT
TZOFFSETFROM:+0100
TZOFFSETTO:+0200
TZNAME:CEST
DTSTART:20210328T010000
END:DAYLIGHT
BEGIN:STANDARD
TZOFFSETFROM:+0200
TZOFFSETTO:+0100
TZNAME:CET
DTSTART:20211031T010000
END:STANDARD
END:VTIMEZONE
BEGIN:VEVENT
DTSTART;TZID=Europe/Ljubljana:20210923T200000
DTEND;TZID=Europe/Ljubljana:20210923T220000
DTSTAMP:20260424T101207
CREATED:20210821T073031Z
LAST-MODIFIED:20211004T095117Z
UID:12429-1632427200-1632434400@zupnija.trnovo.info
SUMMARY:FG: ZGODBE O JAZZU - Hommage a Peter Amalietti_multivizija
DESCRIPTION:Vabljeni na multivizijski projekt v spomin na glasbenika\, pisca\, založnika in misleca Petra Amaliettija\, ki je med drugim izdal vrsto knjig o slovenskem jeziku in »praslovenščini«\, pa prevodov del kitajske in zenovske filozofije\, literarnih del o samozdravljenju ter vrsto glasbenih zapisov o jazzu\, improvizaciji\, glasbeni teoriji…Bil je tudi izjemen v pisanju in zbiranju ter  objavljanju aforizmov in »modrih misli« o življenjski filozofiji\, umetnosti\, glasbi… V multiviziji so izpisana besedila iz teh različnih sfer njegovega literarnega ustvarjanja v dialogu z avtorsko fotografijo /delno tudi s posnetki njegove življenjske sopotnice Sabine Alibegić/\, avtorska glasba pa nadgrajuje oba ostala medija v skladno izpovedno celoto.LADO JAKŠA\, multivizija in glasbaDRAGO OCEPEK\, glasbaSABINA ALIBEGIČ in LADO JAKŠA\, fotografija OPOZORILO: Prosimo\, da glede COVID-19 upoštevate navodila NIJZ. Organizator lahko dogodek snema in javno objavi.   \n\n\n\n \n\n\n\nfoto: Lado Jakša
URL:https://zupnija.trnovo.info/dogodek/fg-zgodbe-o-jazzu_hommage-a-peter-amalietti_multivizija/
CATEGORIES:Finžgarjeva galerija,IZPOSTAVLJENO,Kultura in druženje
ATTACH;FMTTYPE=image/jpeg:https://zupnija.trnovo.info/wp-content/uploads/2021/08/PETER-AMALIETTI-IIIIIIIII-scaled.jpg
END:VEVENT
END:VCALENDAR