BEGIN:VCALENDAR
VERSION:2.0
PRODID:-//Župnija Lj.-Trnovo - ECPv5.10.1//NONSGML v1.0//EN
CALSCALE:GREGORIAN
METHOD:PUBLISH
X-WR-CALNAME:Župnija Lj.-Trnovo
X-ORIGINAL-URL:https://zupnija.trnovo.info
X-WR-CALDESC:Events for Župnija Lj.-Trnovo
BEGIN:VTIMEZONE
TZID:Europe/Ljubljana
BEGIN:DAYLIGHT
TZOFFSETFROM:+0100
TZOFFSETTO:+0200
TZNAME:CEST
DTSTART:20240331T010000
END:DAYLIGHT
BEGIN:STANDARD
TZOFFSETFROM:+0200
TZOFFSETTO:+0100
TZNAME:CET
DTSTART:20241027T010000
END:STANDARD
END:VTIMEZONE
BEGIN:VEVENT
DTSTART;TZID=Europe/Ljubljana:20241130T100000
DTEND;TZID=Europe/Ljubljana:20241130T130000
DTSTAMP:20260423T204441
CREATED:20241025T054508Z
LAST-MODIFIED:20241025T054509Z
UID:32498-1732960800-1732971600@zupnija.trnovo.info
SUMMARY:Izdelovanje adventnih venčkov celotne župnijske skupnosti
DESCRIPTION:Venčke bomo izdelovali tudi v soboto\, 30. novembra od 10. do 13. ure Pod Paviljonom. Lepo vabimo čim več udeležencev za ta kulturni dogodek.
URL:https://zupnija.trnovo.info/dogodek/izdelovanje-adventnih-venckov-celotne-zupnijske-skupnosti/
END:VEVENT
END:VCALENDAR