BEGIN:VCALENDAR
VERSION:2.0
PRODID:-//Župnija Lj.-Trnovo - ECPv5.10.1//NONSGML v1.0//EN
CALSCALE:GREGORIAN
METHOD:PUBLISH
X-WR-CALNAME:Župnija Lj.-Trnovo
X-ORIGINAL-URL:https://zupnija.trnovo.info
X-WR-CALDESC:Events for Župnija Lj.-Trnovo
BEGIN:VTIMEZONE
TZID:Europe/Ljubljana
BEGIN:DAYLIGHT
TZOFFSETFROM:+0100
TZOFFSETTO:+0200
TZNAME:CEST
DTSTART:20230326T010000
END:DAYLIGHT
BEGIN:STANDARD
TZOFFSETFROM:+0200
TZOFFSETTO:+0100
TZNAME:CET
DTSTART:20231029T010000
END:STANDARD
END:VTIMEZONE
BEGIN:VEVENT
DTSTART;TZID=Europe/Ljubljana:20230108T000000
DTEND;TZID=Europe/Ljubljana:20230108T235900
DTSTAMP:20260425T124214
CREATED:20221225T211018Z
LAST-MODIFIED:20221225T211019Z
UID:24196-1673136000-1673222340@zupnija.trnovo.info
SUMMARY:Jezusov krst – sklep božičnega časa
DESCRIPTION:Ko je Janez krstil Jezusa v Jordanu se je nad Jezusa spustil Božji Duh\, glas iz nebes pa je rekel: »Ta je moj ljubljeni Sin\, nad katerim imam veselje.« (Mt 3\,13-17). Tudi naš krst je vzrok Božjega veselja. Ostanimo mu zvesti v dejanju in resnici. Naj hvaležnost\, veselje in njegova milost ostaneta v nas zdaj in vedno!Maše: 8.00\, 10.00\, 19.00
URL:https://zupnija.trnovo.info/dogodek/jezusov-krst-sklep-bozicnega-casa/
CATEGORIES:Nedelje in prazniki
ATTACH;FMTTYPE=image/jpeg:https://zupnija.trnovo.info/wp-content/uploads/2022/01/Jezusov-krst.jpg
END:VEVENT
END:VCALENDAR