BEGIN:VCALENDAR
VERSION:2.0
PRODID:-//Župnija Lj.-Trnovo - ECPv5.10.1//NONSGML v1.0//EN
CALSCALE:GREGORIAN
METHOD:PUBLISH
X-WR-CALNAME:Župnija Lj.-Trnovo
X-ORIGINAL-URL:https://zupnija.trnovo.info
X-WR-CALDESC:Events for Župnija Lj.-Trnovo
BEGIN:VTIMEZONE
TZID:Europe/Ljubljana
BEGIN:DAYLIGHT
TZOFFSETFROM:+0100
TZOFFSETTO:+0200
TZNAME:CEST
DTSTART:20240331T010000
END:DAYLIGHT
BEGIN:STANDARD
TZOFFSETFROM:+0200
TZOFFSETTO:+0100
TZNAME:CET
DTSTART:20241027T010000
END:STANDARD
END:VTIMEZONE
BEGIN:VEVENT
DTSTART;TZID=Europe/Ljubljana:20241009T193000
DTEND;TZID=Europe/Ljubljana:20241009T210000
DTSTAMP:20260420T161538
CREATED:20241004T072844Z
LAST-MODIFIED:20241004T073014Z
UID:32402-1728502200-1728507600@zupnija.trnovo.info
SUMMARY:KONCERT: Anja Vajda - klavir
DESCRIPTION:Vabljeni na koncert mlade virtuozinje Anje Vajda\, ki bo 9. 10. 2024 ob 19.30 v cerkvi sv. janeza Krstnika v Trnovem. \n\n\n\nANJA VAJDA je učenka 9. razreda klavirja pri prof. Jurki Zoroja\, slovenski akademski glasbenici. Obiskuje tudi 3. letnik gimnazije Bežigrad v Ljubljani in je prejemnica dveh nagrad na slovenskem tekmovanju I. Rijavec v Rogaški Slatini.Poleg glasbe\, je tudi aktivna športnica v ritmični gimnastiki\, kjer je prejela tudi veliko najvišjih priznanj Republike Slovenije v tej športni kategoriji.
URL:https://zupnija.trnovo.info/dogodek/koncert-anja-vajda-klavir/
CATEGORIES:DFG,Koncert
ATTACH;FMTTYPE=image/jpeg:https://zupnija.trnovo.info/wp-content/uploads/2024/10/IMG-e905a2567238325bd0077f8bf3f53d8e-V_pop.jpg
END:VEVENT
END:VCALENDAR