BEGIN:VCALENDAR
VERSION:2.0
PRODID:-//Župnija Lj.-Trnovo - ECPv5.10.1//NONSGML v1.0//EN
CALSCALE:GREGORIAN
METHOD:PUBLISH
X-WR-CALNAME:Župnija Lj.-Trnovo
X-ORIGINAL-URL:https://zupnija.trnovo.info
X-WR-CALDESC:Events for Župnija Lj.-Trnovo
BEGIN:VTIMEZONE
TZID:Europe/Ljubljana
BEGIN:DAYLIGHT
TZOFFSETFROM:+0100
TZOFFSETTO:+0200
TZNAME:CEST
DTSTART:20240331T010000
END:DAYLIGHT
BEGIN:STANDARD
TZOFFSETFROM:+0200
TZOFFSETTO:+0100
TZNAME:CET
DTSTART:20241027T010000
END:STANDARD
END:VTIMEZONE
BEGIN:VEVENT
DTSTART;TZID=Europe/Ljubljana:20240920T194500
DTEND;TZID=Europe/Ljubljana:20240920T210000
DTSTAMP:20260420T125738
CREATED:20240813T070529Z
LAST-MODIFIED:20240813T071145Z
UID:32100-1726861500-1726866000@zupnija.trnovo.info
SUMMARY:KONCERT - Elina Fistravec\, orgle
DESCRIPTION:Prisrčno vabljeni na solo koncert organistke Eline Fistravec\, ki bo 20. 9. ob 19.45 v cerkvi sv. Janeza Krstnika v Trnovem.    \n\n\n\n\n\n\n\nPROGRAM: \n\n\n\n \n\n\n\nJan Pieterszoon Sweelinck (1562 – 1621) \n\n\n\nPreludij v F duru\, SwWV 265 \n\n\n\nVariacije Ballo del Granduca\, SwWV 319 \n\n\n\n \n\n\n\nGirolamo Frescobaldi (1583 – 1643) \n\n\n\nToccata per l’elevazione (Fiori Musicali: Messa della Madonna\, F. 12.45) \n\n\n\nMagnificat sesti toni\, F. 3.25 \n\n\n\n \n\n\n\nCharles Piroye (1670 – 1730) \n\n\n\nLa Royal \n\n\n\n \n\n\n\nLouis Couperin (1626 – 1661) \n\n\n\nSarabande v c mollu \n\n\n\n \n\n\n\nGeorg Muffat (1653 – 1704) \n\n\n\nCiacona v G duru \n\n\n\n \n\n\n\nLouis A. J. Lefébure – Wély (1817 – 1870) \n\n\n\nVerset v F duru \n\n\n\n \n\n\n\nAnton Bruckner (1824 – 1986) \n\n\n\nPreludij in fuga v c mollu\, WAB 131   \n\n\n\n         \n\n\n\nGiovanni Bolzoni (1841 – 1919) \n\n\n\nPastorale v F duru \n\n\n\n \n\n\n\nEdward Elgar (1857 – 1934) \n\n\n\nIntroduction/Choral in Voluntary No. 5 iz cikla Vesper Voluntaries \n\n\n\n \n\n\n\nCarlotta Ferrari (1975) \n\n\n\nAubade \n\n\n\n\n\n\n\n\n\n\n\n\n\n\nO IZVAJALKI: \n\n\n\nElina Fistravec (1987) je rojena v Rigi (Latvija). Svojo glasbeno pot je začela s šestimi leti pri profesorici Regini Kamenščikovi v razredu klavirja. Kasneje je nadaljevala šolanje klavirja v Glasbeni šoli Jāzepa Mediņa (Jāzepa Mediņa mūzikas skola) pri Antri Vīksne. Po končanju glasbene šole je študirala v Glasbeni srednji šoli Jāzepa Mediņa v Rigi (Jāzepa Mediņa Rīgas Mūzikas vidusskola) v oddelku glasbene zgodovine in teorije. Študije je naprej nadaljevala v Akademiji za glasbo Jāzepa Vītola v Rigi (Jāzepa Vītola Latvijas Mūzikas Akadēmija) v oddelku muzikologije\, tam je začela orgelski študij pri profesorici Larise Bulave. Znanje je dopolnila v času študija v Univerzi za glasbo\, gledališče in medije (Hochschule für Musik\, Theater und Medien Hannover) v Hannovru (Nemčija) pri profesorju Corneliusu Schneider-Pungsu. Obiskala je delavnice pri takšnih orgelskih mojstrih kot Martin Sander (Nemčija) in Christopher Stembridge (Velika Britanija). V letu 2013 preselila se je v Slovenijo in trenutno je organistka v cerkvi sv. Jakoba v Ljubljani.
URL:https://zupnija.trnovo.info/dogodek/koncert-elina-fistravec-orgle/
CATEGORIES:DFG,Koncert,Kultura in druženje
ATTACH;FMTTYPE=image/jpeg:https://zupnija.trnovo.info/wp-content/uploads/2024/08/Elina_Fistravec_Organistka_2023-0077-–-naslovna-scaled.jpg
END:VEVENT
END:VCALENDAR