BEGIN:VCALENDAR
VERSION:2.0
PRODID:-//Župnija Lj.-Trnovo - ECPv5.10.1//NONSGML v1.0//EN
CALSCALE:GREGORIAN
METHOD:PUBLISH
X-WR-CALNAME:Župnija Lj.-Trnovo
X-ORIGINAL-URL:https://zupnija.trnovo.info
X-WR-CALDESC:Events for Župnija Lj.-Trnovo
BEGIN:VTIMEZONE
TZID:Europe/Ljubljana
BEGIN:DAYLIGHT
TZOFFSETFROM:+0100
TZOFFSETTO:+0200
TZNAME:CEST
DTSTART:20200329T010000
END:DAYLIGHT
BEGIN:STANDARD
TZOFFSETFROM:+0200
TZOFFSETTO:+0100
TZNAME:CET
DTSTART:20201025T010000
END:STANDARD
END:VTIMEZONE
BEGIN:VEVENT
DTSTART;TZID=Europe/Ljubljana:20200622T170000
DTEND;TZID=Europe/Ljubljana:20200622T190000
DTSTAMP:20260422T134722
CREATED:20211214T110836Z
LAST-MODIFIED:20211214T110837Z
UID:15943-1592845200-1592852400@zupnija.trnovo.info
SUMMARY:Koncert učencev prof. Jurke Zoroja
DESCRIPTION:
URL:https://zupnija.trnovo.info/dogodek/koncert-ucencev-prof-jurke-zoroja/
CATEGORIES:Finžgarjeva galerija,IZPOSTAVLJENO,Kultura in druženje
ATTACH;FMTTYPE=image/jpeg:https://zupnija.trnovo.info/wp-content/uploads/2021/09/20200622_Jurka_2.jpg
END:VEVENT
END:VCALENDAR