BEGIN:VCALENDAR
VERSION:2.0
PRODID:-//Župnija Lj.-Trnovo - ECPv5.10.1//NONSGML v1.0//EN
CALSCALE:GREGORIAN
METHOD:PUBLISH
X-WR-CALNAME:Župnija Lj.-Trnovo
X-ORIGINAL-URL:https://zupnija.trnovo.info
X-WR-CALDESC:Events for Župnija Lj.-Trnovo
BEGIN:VTIMEZONE
TZID:Europe/Ljubljana
BEGIN:DAYLIGHT
TZOFFSETFROM:+0100
TZOFFSETTO:+0200
TZNAME:CEST
DTSTART:20240331T010000
END:DAYLIGHT
BEGIN:STANDARD
TZOFFSETFROM:+0200
TZOFFSETTO:+0100
TZNAME:CET
DTSTART:20241027T010000
END:STANDARD
END:VTIMEZONE
BEGIN:VEVENT
DTSTART;TZID=Europe/Ljubljana:20240223T183000
DTEND;TZID=Europe/Ljubljana:20240223T190000
DTSTAMP:20260421T161911
CREATED:20240223T153644Z
LAST-MODIFIED:20240326T060835Z
UID:30421-1708713000-1708714800@zupnija.trnovo.info
SUMMARY:Križev pot
DESCRIPTION:V postnem času vsak petek v cerkvi ob 18.30 opravimo križev pot. To je bogata in čudovita postna vaja.
URL:https://zupnija.trnovo.info/dogodek/krizev-pot-5/2024-02-23/
ATTACH;FMTTYPE=image/jpeg:https://zupnija.trnovo.info/wp-content/uploads/2024/02/Krizev-pot-1.jpg
END:VEVENT
END:VCALENDAR