BEGIN:VCALENDAR
VERSION:2.0
PRODID:-//Župnija Lj.-Trnovo - ECPv5.10.1//NONSGML v1.0//EN
CALSCALE:GREGORIAN
METHOD:PUBLISH
X-WR-CALNAME:Župnija Lj.-Trnovo
X-ORIGINAL-URL:https://zupnija.trnovo.info
X-WR-CALDESC:Events for Župnija Lj.-Trnovo
BEGIN:VTIMEZONE
TZID:Europe/Ljubljana
BEGIN:DAYLIGHT
TZOFFSETFROM:+0100
TZOFFSETTO:+0200
TZNAME:CEST
DTSTART:20250330T010000
END:DAYLIGHT
BEGIN:STANDARD
TZOFFSETFROM:+0200
TZOFFSETTO:+0100
TZNAME:CET
DTSTART:20251026T010000
END:STANDARD
END:VTIMEZONE
BEGIN:VEVENT
DTSTART;TZID=Europe/Ljubljana:20250218T163000
DTEND;TZID=Europe/Ljubljana:20250218T173000
DTSTAMP:20260420T093016
CREATED:20250218T153000Z
LAST-MODIFIED:20250209T173616Z
UID:32939-1739896200-1739899800@zupnija.trnovo.info
SUMMARY:Vodenje po kulturni dediščini cerkve sv. Janeza Krstnika
DESCRIPTION:Vabljeni v torek\, 18. 2. 2025\, ob 16.30 v Trnovsko cerkev na STROKOVNO VODENJE z mag. Olgo Paulič po umetnosti župnije Ljubljana – Trnovo.
URL:https://zupnija.trnovo.info/dogodek/kulturna-dediscina-cerkve-sv-janeza-krstnika/
CATEGORIES:DFG,Finžgarjeva galerija,Kultura in druženje
ATTACH;FMTTYPE=image/jpeg:https://zupnija.trnovo.info/wp-content/uploads/2025/02/20250218_Kulturna-dediscina-cerkve-sv.-Janeza-Krstnika_vodenje_naslovna_1.jpg
END:VEVENT
END:VCALENDAR