BEGIN:VCALENDAR
VERSION:2.0
PRODID:-//Župnija Lj.-Trnovo - ECPv5.10.1//NONSGML v1.0//EN
CALSCALE:GREGORIAN
METHOD:PUBLISH
X-WR-CALNAME:Župnija Lj.-Trnovo
X-ORIGINAL-URL:https://zupnija.trnovo.info
X-WR-CALDESC:Events for Župnija Lj.-Trnovo
BEGIN:VTIMEZONE
TZID:Europe/Ljubljana
BEGIN:DAYLIGHT
TZOFFSETFROM:+0100
TZOFFSETTO:+0200
TZNAME:CEST
DTSTART:20250330T010000
END:DAYLIGHT
BEGIN:STANDARD
TZOFFSETFROM:+0200
TZOFFSETTO:+0100
TZNAME:CET
DTSTART:20251026T010000
END:STANDARD
END:VTIMEZONE
BEGIN:VEVENT
DTSTART;TZID=Europe/Ljubljana:20250330T190000
DTEND;TZID=Europe/Ljubljana:20250330T200000
DTSTAMP:20260421T011357
CREATED:20250223T192207Z
LAST-MODIFIED:20250327T192257Z
UID:33110-1743361200-1743364800@zupnija.trnovo.info
SUMMARY:MAŠA S KLASIČNO GLASBO - postne pesmi Cvetane Priol
DESCRIPTION:V nedeljo\, 30. marca ob 19.00\, bo v sklopu Maše s klasično glasbo pevski zbor pod vodstvom Maje Krevs izvedel uglasbeno poezijo Cvetane Priol. \n\n\n\nUglasbitev: Andrej  Misson \n\n\n\nOrgle: Rebeka Dobravec \n\n\n\n\n\n\n\n\n\n\n\n\n\n\nCvetana Priol je slovenska svetniška kandidatka. Rodila se je 19. februarja 1922 v Mariboru. Bila je najstarejša od treh hčera. Oče Josip Priol je bil direktor Sadjarskega inštituta v Mariboru in je bil svetovno znani strokovnjak na področju sadjarstva. Hčere so vse tri obiskovale osnovno šolo pri šolskih sestrah v Mariboru. Cvetana je zatem hodila v klasično gimnazijo. S starši je bila leta 1941 pregnana v Gradec\, kjer je delala v tovarni tankov in hudo zbolela. Bolezen jo je od tedaj spremljala vse živ­ljenje. Leta 1944 se je vpisala na študij glasbe na Glasbeni akademiji v Gradcu\, ki ga je po 2. svetovni vojni nadaljevala na ljubljanski akademiji. Od leta 1956 do upokojitve 1969 je poučevala glasbo na Srednji glasbeni šoli Maribor. \n\n\n\nPisala je dnevnik z naslovom Darovana\, v katerem je zapisala svoje razmišljanje ob trpljenju zaradi bolezni in drugih preizkušenj. V njem je med drugim navedla\, da se je spomladi leta 1937\, pri 17. letih\, v kapeli sv. Križa v mariborski stolnici darovala Bogu kot žrtev ljubezni. To daritev je kasneje še nekajkrat obnovila. Živela je skrito mistično in trpeče življenje\, ki ga je obravnavala kot Božji dar. Umrla je 11. avgusta 1973 v Mariboru\, pokopana je na pobreškem pokopališču. \n\n\n\nPisala je tudi kratko prozo in poezijo. Za današnjo priložnost je prof. Andrej Misson uglasbil tri postne pesmi\, ki jih bo zbor danes krstno izvedel. Poleg teh bomo slišali še Kralj neba\, ki je bila uglasbena prejšnje leto in pa dve skladbi za sopran in orgle\, ki sta bili prav tako uglasbeni pred kratkim in ju bosta izvedli Maja Krevs in Rebeka Dobravec. Slišali pa bomo še Drugo mašo Ubalda Vrabca. Projektni zbor\, ki se je prav tako zbral za to priložnost\, vodi Maja Krevs\, na orglah ga spremlja Rebeka Dobravec. \n\n\n\nMed mašo bomo prisluhnili naslednjim skladbam: \n\n\n\nA. Misson: Kesanje \n\n\n\nA. Misson: Jezus nosi težki križ \n\n\n\nD: Novak:  Križani \n\n\n\nA. Misson: Kralj neba \n\n\n\nT. Bec: Večer življenjaA. Misson: Pridite k meni
URL:https://zupnija.trnovo.info/dogodek/masa-s-klasicno-glasbo-14/
CATEGORIES:DFG,Maša s klasično glasbo
ATTACH;FMTTYPE=image/jpeg:https://zupnija.trnovo.info/wp-content/uploads/2025/02/50_1_cvetana_priol_FOTO_Wikimedia.jpg
END:VEVENT
END:VCALENDAR