BEGIN:VCALENDAR
VERSION:2.0
PRODID:-//Župnija Lj.-Trnovo - ECPv5.10.1//NONSGML v1.0//EN
CALSCALE:GREGORIAN
METHOD:PUBLISH
X-WR-CALNAME:Župnija Lj.-Trnovo
X-ORIGINAL-URL:https://zupnija.trnovo.info
X-WR-CALDESC:Events for Župnija Lj.-Trnovo
BEGIN:VTIMEZONE
TZID:Europe/Ljubljana
BEGIN:DAYLIGHT
TZOFFSETFROM:+0100
TZOFFSETTO:+0200
TZNAME:CEST
DTSTART:20250330T010000
END:DAYLIGHT
BEGIN:STANDARD
TZOFFSETFROM:+0200
TZOFFSETTO:+0100
TZNAME:CET
DTSTART:20251026T010000
END:STANDARD
END:VTIMEZONE
BEGIN:VEVENT
DTSTART;TZID=Europe/Ljubljana:20250525T190000
DTEND;TZID=Europe/Ljubljana:20250525T200000
DTSTAMP:20260420T125818
CREATED:20250505T065246Z
LAST-MODIFIED:20250519T141139Z
UID:33630-1748199600-1748203200@zupnija.trnovo.info
SUMMARY:Maša s klasično glasbo
DESCRIPTION:Vabljeni v nedeljo\, 25. maja ob 19.00\, vabljeni na mašo s klasično glasbo in koncert v izvedbi godalnega kvarteta PASTEL KVARTET.  \n\n\n\n\n\n\n\n\n\n\n\n\n\n\nPastel kvartet je godalni kvartet\, ki ga sestavljajo Klara Sečnik in Petra Burnik na violini\, Ema Poljanec na violi ter Manca Sečnik na violončelu. Od leta 2023 se skupaj izpopolnjujejo pod mentorstvom prof. Slavena Kulenovića na Konservatoriju za glasbo in balet Ljubljana. Kot komorna zasedba nastopajo na različnih prireditvah\, letos pa so pripravile tudi svoj prvi samostojni celovečerni koncert. Posamezno se udejstvujejo na številnih tekmovanjih tako v Sloveniji\, kot v tujini. \n\n\n\nMed mašo bomo poslušali naslednja dela: \n\n\n\nJ. Haydn: Godalni kvartet v Es-duru\, op. 33\, št. 2\, 3. stavek \n\n\n\nW. A. Mozart: Ave verum \n\n\n\nJ. Haydn: Godalni kvartet v D-duru\, op. 20\, št. 4\, 2.stavek \n\n\n\nA. Borodin: Godalni kvartet št. 2 v D-duru\, 3. stavek \n\n\n\nMaši bo sledil krajši koncert\, poslušali pa bomo: \n\n\n\nP. I. Čajkovski: Godalni kvartet št. 1 v D-duru \n\n\n\nPeter Iljič Čajkovski je svoj prvi godalni kvartet napisal leta 1871\, ko je bil star 31 let. Skladbo so premierno izvedeli v zasebnem salonu\, kar je bil takrat pogost način predstavljanja komornih del. Kvartet je hitro postal eno njegovih najbolj priljubljenih del\, še posebej drugi stavek\, Andante cantabile\, ki je globoko ganil celo velikega ruskega pisatelja Leva Tolstoja.Prvi stavek (Moderato e semplice) poslušalca uvede v nežno\, skoraj ljudsko melodiko\, ki se postopoma razvije v bolj zapleteno glasbeno strukturo. Drugi stavek (Andante cantabile) izraža občutke otožnosti in nostalgije\, hkrati pa ohranja preprostost\, ki je značilna za rusko ljudsko glasbo. Tretji stavek (Scherzo: Allegro non tanto e con fuoco) prinaša živahno energijo in rahlo igriv značaj\, kjer se glasbene fraze prepletajo v dinamičen ples med instrumenti. Zadnji stavek (Finale: Allegro giusto) pa zaključi kvartet z energično ritmiko\, ki odraža skladateljevo mojstrstvo pri ustvarjanju kontrastov in dramatičnih glasbenih vzponov.
URL:https://zupnija.trnovo.info/dogodek/masa-s-klasicno-glasbo-16/
CATEGORIES:DFG,Maša s klasično glasbo
ATTACH;FMTTYPE=image/jpeg:https://zupnija.trnovo.info/wp-content/uploads/2025/05/IMG_8062-–-naslovna-scaled.jpeg
END:VEVENT
END:VCALENDAR