BEGIN:VCALENDAR
VERSION:2.0
PRODID:-//Župnija Lj.-Trnovo - ECPv5.10.1//NONSGML v1.0//EN
CALSCALE:GREGORIAN
METHOD:PUBLISH
X-WR-CALNAME:Župnija Lj.-Trnovo
X-ORIGINAL-URL:https://zupnija.trnovo.info
X-WR-CALDESC:Events for Župnija Lj.-Trnovo
BEGIN:VTIMEZONE
TZID:Europe/Ljubljana
BEGIN:DAYLIGHT
TZOFFSETFROM:+0100
TZOFFSETTO:+0200
TZNAME:CEST
DTSTART:20230326T010000
END:DAYLIGHT
BEGIN:STANDARD
TZOFFSETFROM:+0200
TZOFFSETTO:+0100
TZNAME:CET
DTSTART:20231029T010000
END:STANDARD
END:VTIMEZONE
BEGIN:VEVENT
DTSTART;TZID=Europe/Ljubljana:20230122T190000
DTEND;TZID=Europe/Ljubljana:20230122T200000
DTSTAMP:20260425T142416
CREATED:20230116T084606Z
LAST-MODIFIED:20230116T085055Z
UID:24469-1674414000-1674417600@zupnija.trnovo.info
SUMMARY:MAŠA S KLASIČNO GLASBO
DESCRIPTION:Vabljeni v nedeljo\, 22. 1. 2023 ob 19.00\, na večerno mašo s klasično glasbo v izvedbi MLADINSKEGA PEVSKEGA ZBORA TRNOVO. Izvedli bodo glasbena dela J. Rutter\, A. Misson in druge skladbe iz njihovega repertoarja.  \n\n\n\n\n\n\n\n\n\n\n\n\n\n\n\nMladinski pevski zbor Župnije Trnovo že vrsto let združuje srednješolce\, študente in mlade starše\, ki s svojim petjem bogatijo nedeljska bogoslužja. Zbor je bil ustanovljen leta 2004 in je dolgo časa deloval pod vodstvom Maje Krevs. S sodelovanjem pri mašah\, na duhovnih vajah in dobrodelnih koncertih je zbor postal ena izmed najbolj stanovitnih skupin v naši župniji. V zadnjem letu smo poleg rednega sodelovanja pri svetih mašah in zaključnega koncerta\, pod vodstvom Martine Rot izvedli tudi dva dobrodelna nastopa. Z glasbo smo priskočili na pomoč prijatelju v stiski\, obenem pa utrdili vezi tudi z mladimi iz drugih župnij. Kljub različnim življenskim potem vse člane druži ljubezen do zborovskega petja in prepevanja Bogu v čast. \n\n\n\nPri maši s klasično glasbo bomo prisluhnili 3 skladbam priznanega angleškega skladatelja J. Rutterja. Francoska in angleška glasba iz začetka 20. stoletja sta bistveno vpilvali na njegov slog komponiranja\, ki je širši javnosti postal poznan predvsem po spevnih melodijah in svetlobi\, ki jo izžareva glasba. Med prvimi v Sloveniji so Rutterjeva dela izvedeli pevci zbora Sv. Nikolaja iz Litije. Skladbe\, ki jih bomo slišali so Pesem o rojstvu\, Angelska pesem in Glej ta naš svet. \n\n\n\nZvezde žarijo je ena izmed najbolj izvajanih skladb Andreja Missona (1960). Besedilo pesmi Gregorja Malija nežno poustvarja čudovita melodija v sopranu ob spremljavi preostalih glasov.  Kljub temu da je pesem sicer največkrat izvajana v času božiča\, nas evharistična vsebina zadnjih dveh kitic vabi k premišljevanju o globoki skozi vse leto. \n\n\n\nPreostali program je izbran iz repertoarja mladinskega pevskega zbora.
URL:https://zupnija.trnovo.info/dogodek/masa-s-klasicno-glasbo-6/
CATEGORIES:Maša s klasično glasbo
ATTACH;FMTTYPE=image/jpeg:https://zupnija.trnovo.info/wp-content/uploads/2023/01/MPZ-Trnovo_slikca-scaled.jpeg
END:VEVENT
END:VCALENDAR