BEGIN:VCALENDAR
VERSION:2.0
PRODID:-//Župnija Lj.-Trnovo - ECPv5.10.1//NONSGML v1.0//EN
CALSCALE:GREGORIAN
METHOD:PUBLISH
X-WR-CALNAME:Župnija Lj.-Trnovo
X-ORIGINAL-URL:https://zupnija.trnovo.info
X-WR-CALDESC:Events for Župnija Lj.-Trnovo
BEGIN:VTIMEZONE
TZID:Europe/Ljubljana
BEGIN:DAYLIGHT
TZOFFSETFROM:+0100
TZOFFSETTO:+0200
TZNAME:CEST
DTSTART:20230326T010000
END:DAYLIGHT
BEGIN:STANDARD
TZOFFSETFROM:+0200
TZOFFSETTO:+0100
TZNAME:CET
DTSTART:20231029T010000
END:STANDARD
END:VTIMEZONE
BEGIN:VEVENT
DTSTART;TZID=Europe/Ljubljana:20230226T190000
DTEND;TZID=Europe/Ljubljana:20230226T200000
DTSTAMP:20260421T081636
CREATED:20230219T194904Z
LAST-MODIFIED:20230222T082631Z
UID:25047-1677438000-1677441600@zupnija.trnovo.info
SUMMARY:MAŠA S KLASIČNO GLASBO
DESCRIPTION:V nedeljo 26. 2. 2023 bodo pri večerni maši ob 19.00 v sklopu cikla Maše s klasično glasbo sodelovali sopranistki Ana Novak in Marina Dolibets ter baritonist Grega Vauhnik. Na klavirju jih bo spremljala njihova mentorica Katja Konvalinka\, predstavili pa nam bodo postna dela različnih skladateljev ter Misso de Angelis.Vabljeni! \n\n\n\n\n\n\n\n\n\n\n\n\n\nSopranistka Ana Novak se trenutno uči petja na Glasbeni šoli Vič-Rudnik. Pevsko pot je začela s petjem v zboru Carmina Slovenica in pri prof. Simoni Raffanelli Krajnc. Imela je več recitalov ter nastopila v krstni izvedbi prve slovenske opere Belin (J. F. Zupan). Redno se udeležuje pevskih tekmovanj\, kjer dosega visoke rezultate. Je tudi članica vokalno inštrumentalne zasedbe Nova Schola Labacensis. Poleg svojega pevskega udejstvovanja opravlja doktorski študij na Biotehniški fakulteti\, kjer je tudi zaposlena. \n\n\n\nSopranistka Marina Dolibets se je rodila leta 2004 v Ukrajini. Od leta 2011 je obiskovala Olevsko glasbeno šolo\, kjer se je učila petja\, klavirja in teorije\, leta 2019 pa je začela z učenjem petja na konservatoriju v  Žitomiru\, pri profesorici Katji Klosovski. Leta 2022 je zaradi vojne prišla v Slovenijo\, kjer nadaljuje z učenjem petja. V tem času je imela vrsto pevskih nastopov. Sočasno končuje ukrajinski konservatorij po spletu. Leta 2021 je tudi maturirala\, sedaj pa si želi študirati solopetje. \n\n\n\nBaritonist Grega Vauhnik\, sicer magister prava\, zaposlen na Okrožnem sodišču v Ljubljani\, se je s petjem najprej srečal v MPZ župnije Radovljica in kasneje tudi v okviru drugih zborovskih sestavov. Od leta 2018 se uči petja na Glasbeni šoli Vič-Rudnik. Poleg recitalov in udeležbe na različnih pevskih tekmovanjih\, med vidnejše dosežke šteje nastope v krstni izvedbi opere Julija (A. Makovec)\, ter v opereti Candid (L. Bernstein). \n\n\n\nNa klavirju bo pevce spremljala njihova mentorica prof. Katja Konvalinka. \n\n\n\n \n\n\n\nPoleg gregorijanske Misse de Angelis\, bomo prisluhnili še: \n\n\n\nG. B. Pergolesi: Vidit suum (Stabat mater) – Marina Dolibets \n\n\n\nA. Dvořak: Biblična pesem št. 8 – Ana Novak \n\n\n\nK. Jensen: Ave Verum – Ana Novak in Grega Vauhnik \n\n\n\nC. Franck: Panis Angelicus – Grega Vauhnik \n\n\n\nF. Gerbič: Ave Maria – Ana Novak in Grega Vauhnik \n\n\n\nA. Stradella: Pieta\, Signore – Grega Vauhnik
URL:https://zupnija.trnovo.info/dogodek/masa-s-klasicno-glasbo-7/
CATEGORIES:Maša s klasično glasbo
ATTACH;FMTTYPE=image/jpeg:https://zupnija.trnovo.info/wp-content/uploads/2023/02/IMG_7709-2-scaled.jpg
END:VEVENT
END:VCALENDAR