BEGIN:VCALENDAR
VERSION:2.0
PRODID:-//Župnija Lj.-Trnovo - ECPv5.10.1//NONSGML v1.0//EN
CALSCALE:GREGORIAN
METHOD:PUBLISH
X-WR-CALNAME:Župnija Lj.-Trnovo
X-ORIGINAL-URL:https://zupnija.trnovo.info
X-WR-CALDESC:Events for Župnija Lj.-Trnovo
BEGIN:VTIMEZONE
TZID:Europe/Ljubljana
BEGIN:DAYLIGHT
TZOFFSETFROM:+0100
TZOFFSETTO:+0200
TZNAME:CEST
DTSTART:20230326T010000
END:DAYLIGHT
BEGIN:STANDARD
TZOFFSETFROM:+0200
TZOFFSETTO:+0100
TZNAME:CET
DTSTART:20231029T010000
END:STANDARD
END:VTIMEZONE
BEGIN:VEVENT
DTSTART;TZID=Europe/Ljubljana:20230326T190000
DTEND;TZID=Europe/Ljubljana:20230326T200000
DTSTAMP:20260422T182440
CREATED:20230317T072424Z
LAST-MODIFIED:20230317T072425Z
UID:25475-1679857200-1679860800@zupnija.trnovo.info
SUMMARY:MAŠA S KLASIČNO GLASBO
DESCRIPTION:V nedeljo\, 26. 3. 2023 pri večerni maši ob 19.00\, bo v sklopu cikla Maše s klasično glasbo pevski sestav pod vodstvom Maje Krevs izvedel KORALI IZ BACHOVEGA JANEZOVEGA PASIJONA.Vabljeni!
URL:https://zupnija.trnovo.info/dogodek/masa-s-klasicno-glasbo-8/
CATEGORIES:Maša s klasično glasbo
ATTACH;FMTTYPE=image/jpeg:https://zupnija.trnovo.info/wp-content/uploads/2023/03/IMG_9000-2-scaled.jpg
END:VEVENT
END:VCALENDAR