BEGIN:VCALENDAR
VERSION:2.0
PRODID:-//Župnija Lj.-Trnovo - ECPv5.10.1//NONSGML v1.0//EN
CALSCALE:GREGORIAN
METHOD:PUBLISH
X-WR-CALNAME:Župnija Lj.-Trnovo
X-ORIGINAL-URL:https://zupnija.trnovo.info
X-WR-CALDESC:Events for Župnija Lj.-Trnovo
BEGIN:VTIMEZONE
TZID:Europe/Ljubljana
BEGIN:DAYLIGHT
TZOFFSETFROM:+0100
TZOFFSETTO:+0200
TZNAME:CEST
DTSTART:20240331T010000
END:DAYLIGHT
BEGIN:STANDARD
TZOFFSETFROM:+0200
TZOFFSETTO:+0100
TZNAME:CET
DTSTART:20241027T010000
END:STANDARD
END:VTIMEZONE
BEGIN:VEVENT
DTSTART;TZID=Europe/Ljubljana:20240407T190000
DTEND;TZID=Europe/Ljubljana:20240407T210000
DTSTAMP:20260421T075253
CREATED:20240404T051051Z
LAST-MODIFIED:20240405T054358Z
UID:30807-1712516400-1712523600@zupnija.trnovo.info
SUMMARY:MAŠA S KLASIČNO GLASBO - Ana Novak\, Veronika Hrovat\, Grega Vauhnik\, Matej Prevc\, Katja Konvalinka
DESCRIPTION:Vabljeni na mašo s klasično glasbo. \n\n\n\n\n\n\n\n\n\n\n\n\n\n\nNastopili bodo: \n\n\n\nAna Novak\, sopran \n\n\n\nVeronika Hrovat\, sopran \n\n\n\nGrega Vauhnik\, bariton \n\n\n\nMatej Prevc\, bariton \n\n\n\nKatja Konvalinka\, klavir \n\n\n\nProgram: \n\n\n\n\nW. A:. Mozart: Vespere solennes: Laudamus te  …Ana Novak\n\n\n\nMaša: C. Gounod: Missa breve in C: Kyrie\, Gloria… vsi\n\n\n\nF. Mendelssohn: Elias: Lord God Of Abraham\, Isaac And Israel …Matej Prevc\n\n\n\nD. Novak: Z nami ostani\, gospod … Ana Novak in Grega Vauhnik (smo naredili kot duet\, da 1x eden poje\, 1x drugi)\n\n\n\nC. Gounod: Missa breve in C: O salutaris hostia\, Agnus Dei …vsi\n\n\n\nW. A: Mozart: Missa brevis: Benedictus … Veronika Hrovat\n\n\n\nF. Mendelssohn: Elias: For The Mountains Shall Depart … Grega Vauhnik\n\n\n\nA. Vavken: Razveseli se\, kraljica .. vsi
URL:https://zupnija.trnovo.info/dogodek/masa-s-klasicno-glasbo-ana-novak-veronika-hrovat-grega-vauhnik-matej-prevc-katja-konvalinka/
CATEGORIES:DFG,Duhovnost in druženje,Maša s klasično glasbo
ATTACH;FMTTYPE=image/jpeg:https://zupnija.trnovo.info/wp-content/uploads/2024/04/20240407_Ana-Novak-Veronika-Hrovat-Grega-Vauhnik-Matej-Prevc-Katja-Konvalinka_prikazna.jpg
END:VEVENT
END:VCALENDAR