BEGIN:VCALENDAR
VERSION:2.0
PRODID:-//Župnija Lj.-Trnovo - ECPv5.10.1//NONSGML v1.0//EN
CALSCALE:GREGORIAN
METHOD:PUBLISH
X-WR-CALNAME:Župnija Lj.-Trnovo
X-ORIGINAL-URL:https://zupnija.trnovo.info
X-WR-CALDESC:Events for Župnija Lj.-Trnovo
BEGIN:VTIMEZONE
TZID:Europe/Ljubljana
BEGIN:DAYLIGHT
TZOFFSETFROM:+0100
TZOFFSETTO:+0200
TZNAME:CEST
DTSTART:20240331T010000
END:DAYLIGHT
BEGIN:STANDARD
TZOFFSETFROM:+0200
TZOFFSETTO:+0100
TZNAME:CET
DTSTART:20241027T010000
END:STANDARD
END:VTIMEZONE
BEGIN:VEVENT
DTSTART;TZID=Europe/Ljubljana:20241229T190000
DTEND;TZID=Europe/Ljubljana:20241229T210000
DTSTAMP:20260424T124229
CREATED:20241218T055549Z
LAST-MODIFIED:20241218T055551Z
UID:32716-1735498800-1735506000@zupnija.trnovo.info
SUMMARY:MAŠA S KLASIČNO GLASBO: Slovenske božične skladbe v izvedbi MPZ župnije sv. Tilna iz Višnje Gore
DESCRIPTION:Leta 1977 so v Višnji Gori\, pred zadnjo novo mašo pokojnega duhovnika Jožeta Erjavca\, ki je bil nekaj let tudi trnovski kaplan\, dobili nove Jenkove orgle. Takrat se je tedanji župnijski zbor malo pomladil in po štirih letih samostojnega petja\, brez vodstva organista\, ki je umrl leta 1974\, začel z rednimi pevskimi vajami. Pri polnočnici leta 1977\, je pomlajeni cerkveni mešani pevski zbor prvič javno nastopil z zborovodjem in organistom Milanom Jevnikarjem\, ki zbor vodi in spremlja še danes. Danes ga bo na orgle igral profesor Robert Kohek\, organist iz župnije Zagradec. \n\n\n\nŠtevilo pevcev v zboru je bilo v prvih desetletjih tudi trideset ali več\, zadnjih deset let pa je število pevcev precej upadlo\, saj je priliva mladih pevcev vse manj. Trenutno zbor šteje 20 pevcev\, 11 žensk in 9 moških. Najstarejši pevec šteje 87 let najmlajša pevka pa 14. \n\n\n\nZbor redno sodeluje pri vseh nedeljskih in prazničnih jutranjih mašah v Višnji Gori ter pri drugih slovesnostih v župniji in dekaniji. V času svojega delovanja je priredil vsaj 30 celovečernih\, predvsem božičnih in tudi jubilejnih koncertov. Občasno sodeluje tudi na krajevnih in občinskih prireditvah. \n\n\n\nDanes bomo pri maši slišali skladbe iz zakladnice Slovenskih božičnih ter Slovensko mašo Frana Venturinija. \n\n\n\nAnton Foerster: SVETA DRUŽINA \n\n\n\nJanez Kranjec: Blagor vsem\, ki se boje Gospoda\, Ps. 127 \n\n\n\nAnton Jobst: PRESVETA NOČ \n\n\n\nAndrej Vavken: PASTIRCI KAM HITITE  \n\n\n\nFrance Ačko: POČIVAJ MILO DETECE \n\n\n\nFranc Bricelj: SPET SMEM PRI TVOJIH JASLICAH KLEČATI \n\n\n\nMaši bo sledil krajši koncert: \n\n\n\nFrance Cigan: LE GOR\, LE GOR \n\n\n\nGustav Ipavec: PRIŠLA JE LEPA SVETA NOČ \n\n\n\nMatija Tomc: ZVEZDE GORIJO \n\n\n\nLevičnik Kramar: BODI POZDRAVLJENO DETECE SVETO \n\n\n\nHribar\, Fabiani: SPI DETE NAM SLADKO
URL:https://zupnija.trnovo.info/dogodek/masa-s-klasicno-glasbo-slovenske-bozicne-skladbe-v-izvedbi-mpz-zupnije-sv-tilna-iz-visnje-gore/
CATEGORIES:DFG,Duhovnost in druženje,Koncert,Maša s klasično glasbo
ATTACH;FMTTYPE=image/jpeg:https://zupnija.trnovo.info/wp-content/uploads/2024/12/DSC_0853.jpg
END:VEVENT
END:VCALENDAR