BEGIN:VCALENDAR
VERSION:2.0
PRODID:-//Župnija Lj.-Trnovo - ECPv5.10.1//NONSGML v1.0//EN
CALSCALE:GREGORIAN
METHOD:PUBLISH
X-WR-CALNAME:Župnija Lj.-Trnovo
X-ORIGINAL-URL:https://zupnija.trnovo.info
X-WR-CALDESC:Events for Župnija Lj.-Trnovo
BEGIN:VTIMEZONE
TZID:Europe/Ljubljana
BEGIN:DAYLIGHT
TZOFFSETFROM:+0100
TZOFFSETTO:+0200
TZNAME:CEST
DTSTART:20190331T010000
END:DAYLIGHT
BEGIN:STANDARD
TZOFFSETFROM:+0200
TZOFFSETTO:+0100
TZNAME:CET
DTSTART:20191027T010000
END:STANDARD
END:VTIMEZONE
BEGIN:VEVENT
DTSTART;TZID=Europe/Ljubljana:20190918T193000
DTEND;TZID=Europe/Ljubljana:20190918T210000
DTSTAMP:20260422T134902
CREATED:20211214T101343Z
LAST-MODIFIED:20211214T101737Z
UID:15907-1568835000-1568840400@zupnija.trnovo.info
SUMMARY:Moji prostori v gledališčih - Andrej Stražišar - v sodelovanju s SLOGI
DESCRIPTION:
URL:https://zupnija.trnovo.info/dogodek/moji-prostori-v-gledaliscih-andrej-strazisar/
CATEGORIES:Finžgarjeva galerija,IZPOSTAVLJENO,Kultura in druženje
ATTACH;FMTTYPE=image/jpeg:https://zupnija.trnovo.info/wp-content/uploads/2021/09/20190916_Plakat_A3_Andrej-scaled.jpg
END:VEVENT
END:VCALENDAR