BEGIN:VCALENDAR
VERSION:2.0
PRODID:-//Župnija Lj.-Trnovo - ECPv5.10.1//NONSGML v1.0//EN
CALSCALE:GREGORIAN
METHOD:PUBLISH
X-WR-CALNAME:Župnija Lj.-Trnovo
X-ORIGINAL-URL:https://zupnija.trnovo.info
X-WR-CALDESC:Events for Župnija Lj.-Trnovo
BEGIN:VTIMEZONE
TZID:Europe/Ljubljana
BEGIN:DAYLIGHT
TZOFFSETFROM:+0100
TZOFFSETTO:+0200
TZNAME:CEST
DTSTART:20220327T010000
END:DAYLIGHT
BEGIN:STANDARD
TZOFFSETFROM:+0200
TZOFFSETTO:+0100
TZNAME:CET
DTSTART:20221030T010000
END:STANDARD
END:VTIMEZONE
BEGIN:VEVENT
DTSTART;TZID=Europe/Ljubljana:20221007T190000
DTEND;TZID=Europe/Ljubljana:20221007T210000
DTSTAMP:20260424T121850
CREATED:20220920T073451Z
LAST-MODIFIED:20220920T073453Z
UID:22091-1665169200-1665176400@zupnija.trnovo.info
SUMMARY:Moški večer
DESCRIPTION:Moški večer je vsak prvi petek v mesecu\, to bo 6. oktobra z začetkom pri večerni maši ob 19. uri. Kako pridobiti tipične lastnosti za sodobnega moškega\, ni tako enostavno\, čeprav se mnogim to ne zdi. Biti mož v sodobnem času je velik izziv in od moškega zahteva drže\, ki niso muhe enodnevnice.
URL:https://zupnija.trnovo.info/dogodek/moski-vecer/
CATEGORIES:Kateheza za odrasle
END:VEVENT
END:VCALENDAR