BEGIN:VCALENDAR
VERSION:2.0
PRODID:-//Župnija Lj.-Trnovo - ECPv5.10.1//NONSGML v1.0//EN
CALSCALE:GREGORIAN
METHOD:PUBLISH
X-WR-CALNAME:Župnija Lj.-Trnovo
X-ORIGINAL-URL:https://zupnija.trnovo.info
X-WR-CALDESC:Events for Župnija Lj.-Trnovo
BEGIN:VTIMEZONE
TZID:Europe/Ljubljana
BEGIN:DAYLIGHT
TZOFFSETFROM:+0100
TZOFFSETTO:+0200
TZNAME:CEST
DTSTART:20210328T010000
END:DAYLIGHT
BEGIN:STANDARD
TZOFFSETFROM:+0200
TZOFFSETTO:+0100
TZNAME:CET
DTSTART:20211031T010000
END:STANDARD
END:VTIMEZONE
BEGIN:VEVENT
DTSTART;TZID=Europe/Ljubljana:20211105T190000
DTEND;TZID=Europe/Ljubljana:20211105T210000
DTSTAMP:20260420T163531
CREATED:20211101T152417Z
LAST-MODIFIED:20211101T152601Z
UID:14777-1636138800-1636146000@zupnija.trnovo.info
SUMMARY:MOŽJE V CERKVI - vsi možje vabljeni na drugo srečanje
DESCRIPTION:Dragi možje\,ponovno vam pišem\, da se dobimo 5. 11. 2021 ob 19.00 pri maši. Tukaj bomo sodelovali (berilo\, prošnje\, prinašanje darov\, ministriranje\, kdor se opogumi…). Letos bomo delali po knjigi Johna Eldredgea\, Pustolovec\, bojevnik\, kralj. Začeli bomo s prvim poglavjem Moško potovanje (str. 1-20)\, zato prosim preberimo. Tokrat bom izhodišča za pogovor pripravil sam\, za naprej pa si bomo razdelili.To je tudi praznik staršev Janeza Krstnika – svetih Zaharije in Elizabete. Lep dan za vse nas. Povabite še druge brate. Prinesel bom tudi delovnem zvezke k naši knjigi\, zato vzemite nekaj denarja. Predlagam\, da si pripravimo tudi nekaj za druženje – kakšen narezek in vino. A se kdo javi – si bomo razdeljevali te naloge.lp Matej Križanič
URL:https://zupnija.trnovo.info/dogodek/mozje-v-cerkvi-vsi-mozje-vabljeni-na-drugo-srecanje/
CATEGORIES:Duhovnost in druženje,Kateheza za odrasle
END:VEVENT
END:VCALENDAR