BEGIN:VCALENDAR
VERSION:2.0
PRODID:-//Župnija Lj.-Trnovo - ECPv5.10.1//NONSGML v1.0//EN
CALSCALE:GREGORIAN
METHOD:PUBLISH
X-WR-CALNAME:Župnija Lj.-Trnovo
X-ORIGINAL-URL:https://zupnija.trnovo.info
X-WR-CALDESC:Events for Župnija Lj.-Trnovo
BEGIN:VTIMEZONE
TZID:Europe/Ljubljana
BEGIN:DAYLIGHT
TZOFFSETFROM:+0100
TZOFFSETTO:+0200
TZNAME:CEST
DTSTART:20210328T010000
END:DAYLIGHT
BEGIN:STANDARD
TZOFFSETFROM:+0200
TZOFFSETTO:+0100
TZNAME:CET
DTSTART:20211031T010000
END:STANDARD
END:VTIMEZONE
BEGIN:VEVENT
DTSTART;TZID=Europe/Ljubljana:20211001T190000
DTEND;TZID=Europe/Ljubljana:20211001T210000
DTSTAMP:20260422T205238
CREATED:20210917T121310Z
LAST-MODIFIED:20210917T121434Z
UID:13144-1633114800-1633122000@zupnija.trnovo.info
SUMMARY:Možje v Cerkvi - vsi možje vabljeni na prvo srečanje
DESCRIPTION:Dragi možje\, \n\n\n\nna duhovni obnovi 4. 9. 2021 je prišlo do ideje\, da bi možje (v smislu možatosti) začeli dobivati in se bolj aktivirati v svojem poslanstvu. Na spletni strani župnije Trnovo imate nekaj izhodišč o čem smo se pogovarjali na temo Možje v Cerkvi. \n\n\n\nPredlagam\, da se dobivamo vsak 1. petek v mesecu. Začeli bomo vedno z večerno mašo (ob 19.00)\, kjer bomo aktivno sodelovali in potem se dobimo v AGAPE (pozimi pa v župnišču). Po potrebi bomo pomagali tudi Marku Č. pri določenih težjih opravilih v cerkvi\, še zlasti pred prazniki. \n\n\n\nZačeli bomo 1. oktobra ob 19.00. \n\n\n\nČe še koga poznate\, mu mirno prepošljite tole povabilo. \n\n\n\nČaka nas zanimiva pot. \n\n\n\nPredstavil bom tudi nekaj literature\, po kateri bomo delali in seveda kako bomo delovali. \n\n\n\nLep pozdrav. \n\n\n\nMatej Križanič
URL:https://zupnija.trnovo.info/dogodek/mozje-v-cerkvi/
CATEGORIES:Duhovnost in druženje,Kateheza za odrasle
END:VEVENT
END:VCALENDAR