BEGIN:VCALENDAR
VERSION:2.0
PRODID:-//Župnija Lj.-Trnovo - ECPv5.10.1//NONSGML v1.0//EN
CALSCALE:GREGORIAN
METHOD:PUBLISH
X-WR-CALNAME:Župnija Lj.-Trnovo
X-ORIGINAL-URL:https://zupnija.trnovo.info
X-WR-CALDESC:Events for Župnija Lj.-Trnovo
BEGIN:VTIMEZONE
TZID:Europe/Ljubljana
BEGIN:DAYLIGHT
TZOFFSETFROM:+0100
TZOFFSETTO:+0200
TZNAME:CEST
DTSTART:20250330T010000
END:DAYLIGHT
BEGIN:STANDARD
TZOFFSETFROM:+0200
TZOFFSETTO:+0100
TZNAME:CET
DTSTART:20251026T010000
END:STANDARD
END:VTIMEZONE
BEGIN:VEVENT
DTSTART;TZID=Europe/Ljubljana:20250602T180000
DTEND;TZID=Europe/Ljubljana:20250602T190000
DTSTAMP:20260423T092229
CREATED:20250601T201219Z
LAST-MODIFIED:20250601T201221Z
UID:33793-1748887200-1748890800@zupnija.trnovo.info
SUMMARY:Obisk škofa birmovalca dr. Franca Šuštarja in srečanje z njim za vse
DESCRIPTION:
URL:https://zupnija.trnovo.info/dogodek/obisk-skofa-birmovalca-dr-franca-sustarja-in-srecanje-z-njim-za-vse/
END:VEVENT
END:VCALENDAR