BEGIN:VCALENDAR
VERSION:2.0
PRODID:-//Župnija Lj.-Trnovo - ECPv5.10.1//NONSGML v1.0//EN
CALSCALE:GREGORIAN
METHOD:PUBLISH
X-WR-CALNAME:Župnija Lj.-Trnovo
X-ORIGINAL-URL:https://zupnija.trnovo.info
X-WR-CALDESC:Events for Župnija Lj.-Trnovo
BEGIN:VTIMEZONE
TZID:Europe/Ljubljana
BEGIN:DAYLIGHT
TZOFFSETFROM:+0100
TZOFFSETTO:+0200
TZNAME:CEST
DTSTART:20240331T010000
END:DAYLIGHT
BEGIN:STANDARD
TZOFFSETFROM:+0200
TZOFFSETTO:+0100
TZNAME:CET
DTSTART:20241027T010000
END:STANDARD
END:VTIMEZONE
BEGIN:VEVENT
DTSTART;TZID=Europe/Ljubljana:20241020T100000
DTEND;TZID=Europe/Ljubljana:20241020T120000
DTSTAMP:20260420T213559
CREATED:20241012T090400Z
LAST-MODIFIED:20241012T090402Z
UID:32435-1729418400-1729425600@zupnija.trnovo.info
SUMMARY:OBLETNICE KRSTOV
DESCRIPTION:OBLETNICE KRSTOV bomo praznovali na Misijonsko nedeljo\, 20.oktobra\, ob 10. uri. Vsem\, ki ste za to praznovanje odgovorni\, se najlepše zahvaljujem za velikodušnost.
URL:https://zupnija.trnovo.info/dogodek/obletnice-krstov-2/
CATEGORIES:Duhovnost in druženje,Nedelje in prazniki
ATTACH;FMTTYPE=image/jpeg:https://zupnija.trnovo.info/wp-content/uploads/2024/10/JK-krscuje-Jezusa_bron-rocka_Trsar-1.jpg
END:VEVENT
END:VCALENDAR