BEGIN:VCALENDAR
VERSION:2.0
PRODID:-//Župnija Lj.-Trnovo - ECPv5.10.1//NONSGML v1.0//EN
CALSCALE:GREGORIAN
METHOD:PUBLISH
X-WR-CALNAME:Župnija Lj.-Trnovo
X-ORIGINAL-URL:https://zupnija.trnovo.info
X-WR-CALDESC:Events for Župnija Lj.-Trnovo
BEGIN:VTIMEZONE
TZID:Europe/Ljubljana
BEGIN:DAYLIGHT
TZOFFSETFROM:+0100
TZOFFSETTO:+0200
TZNAME:CEST
DTSTART:20240331T010000
END:DAYLIGHT
BEGIN:STANDARD
TZOFFSETFROM:+0200
TZOFFSETTO:+0100
TZNAME:CET
DTSTART:20241027T010000
END:STANDARD
END:VTIMEZONE
BEGIN:VEVENT
DTSTART;TZID=Europe/Ljubljana:20241103T100000
DTEND;TZID=Europe/Ljubljana:20241103T120000
DTSTAMP:20260420T232639
CREATED:20241025T051017Z
LAST-MODIFIED:20241025T052513Z
UID:32452-1730628000-1730635200@zupnija.trnovo.info
SUMMARY:Zahvalna nedelja in Obletnice porok
DESCRIPTION:Na zahvalno nedeljo\, 3. novembra\, bomo praznovali obletnice porok. Premalo se zahvaljujemo za dar zveste ljubezni. Zahvalna nedelja bo odlična priložnost\, da se na tem področju vsaj nekaj premakne v smeri tiste poročne zaobljube „Jaz … sprejmem tebe za svojo ženo/za svojega moža …“ Zato vse poročene in tiste\, ki ste se zaročili\, vabimo 3. novembra 2024 ob 10. uri v župnijsko cerkev sv. Janeza Krstnika\, kjer se bomo spomnili na poročni dan in znova obnovili zavezo\, ki je najlepši in najbolj zahteven projekt človeškega življenja. Zakonski par\, ki vztraja v sreči in nesreči\, v bolezni in zdravju\, ki podarja ljubezen vse dni svojega življenja\, je s to vsebino in s to pripadnostjo največji oznanjevalec in misijonar v sodobnem času\, kjer je mnogo stvari nestanovitnih in ko se vse prilagaja trenutnemu razpoloženju in vplivom okolja.
URL:https://zupnija.trnovo.info/dogodek/obletnice-porok-2/
CATEGORIES:Nedelje in prazniki
ATTACH;FMTTYPE=image/png:https://zupnija.trnovo.info/wp-content/uploads/2023/10/WD97136GA.png
END:VEVENT
END:VCALENDAR