BEGIN:VCALENDAR
VERSION:2.0
PRODID:-//Župnija Lj.-Trnovo - ECPv5.10.1//NONSGML v1.0//EN
CALSCALE:GREGORIAN
METHOD:PUBLISH
X-WR-CALNAME:Župnija Lj.-Trnovo
X-ORIGINAL-URL:https://zupnija.trnovo.info
X-WR-CALDESC:Events for Župnija Lj.-Trnovo
BEGIN:VTIMEZONE
TZID:Europe/Ljubljana
BEGIN:DAYLIGHT
TZOFFSETFROM:+0100
TZOFFSETTO:+0200
TZNAME:CEST
DTSTART:20250330T010000
END:DAYLIGHT
BEGIN:STANDARD
TZOFFSETFROM:+0200
TZOFFSETTO:+0100
TZNAME:CET
DTSTART:20251026T010000
END:STANDARD
END:VTIMEZONE
BEGIN:VEVENT
DTSTART;TZID=Europe/Ljubljana:20250306T180000
DTEND;TZID=Europe/Ljubljana:20250306T200000
DTSTAMP:20260422T135820
CREATED:20250228T052509Z
LAST-MODIFIED:20250228T104412Z
UID:33142-1741284000-1741291200@zupnija.trnovo.info
SUMMARY:OTVORITEV LIKOVNE RAZSTAVE DORE IN ANDREJA ČERNETA
DESCRIPTION:Vabljeni na otvoritev likovne razstave Dore in Andreja Černeta\, ki bo v četrtek\, 6. marca ob 18. uri v Finžgarjevi galeriji. \n\n\n\nGlasbena spremljava: Nia Prosen \n\n\n\n\n\n\n\n\n\n\n\n\n\n\n\n\n\n\n\n\n\n\n\n\n\n\n\n\nNajini pogledi\, Dora in Andrej Černe \n\n\n\nPo devetnajstih letih se Dora in Andrej vračata v Finžgarjevo galerijo. V Slikarsko šolo Nuše Lapanje sta se namreč vpisala leta 2006. Pod mentorstvom akademske slikarke Barbare Kastelec je šola potekala tudi v prostorih župnišča. \n\n\n\nPo ustanovitvi samostojnega Slikarskega ateljeja Barbare Kastelec sta ostala zvesta mentorici\, kjer še vedno likovno ustvarjata. Svet umetnosti spoznavata preko del različnih slikarjev\, skozi umetnostno zgodovino in ob podpori likovne teorije. Spoznala sta osnove slikarskih tehnik\, od oglja\, akvarela in gvaša\, do akrila in olja. Večina slikarskih del v različnih tehnikah\, tihožitja\, portreti\, akti\, živali\, sta ustvarila v ateljeju Slikarske šole\, nekatere krajine pa sta odslikala v naravi in na mednarodnih slikarskih delavnicah. Spoznala sta tudi osnovne elemente grafike in kiparstva. \n\n\n\n“Zastavljeni temelji slikarskih tehnik so pri avtorjih prerasli v poglobljeno raziskovanje znotraj umetnosti slikarstva ter v vse večjo željo po lastnem ustvarjanju. V tem procesu učenja prihaja vedno bolj do izraza njun lastni stil\, ki se lepo odraža v razvoju barvne lestvice in karakterističnih potezah.” (B. Kastelec: Dora in Andrej Černe\, Srečanja\, Klub galerije Bažato 6.10.2023\, Ljubljana) \n\n\n\nDora in Andrej Černe \n\n\n\nLjubljana\, marec 2025
URL:https://zupnija.trnovo.info/dogodek/otvoritev-likovne-razstave-dore-in-andreja-cerneta/
CATEGORIES:DFG,Finžgarjeva galerija
ATTACH;FMTTYPE=image/jpeg:https://zupnija.trnovo.info/wp-content/uploads/2025/02/IMG_2090-scaled.jpeg
END:VEVENT
END:VCALENDAR