BEGIN:VCALENDAR
VERSION:2.0
PRODID:-//Župnija Lj.-Trnovo - ECPv5.10.1//NONSGML v1.0//EN
CALSCALE:GREGORIAN
METHOD:PUBLISH
X-WR-CALNAME:Župnija Lj.-Trnovo
X-ORIGINAL-URL:https://zupnija.trnovo.info
X-WR-CALDESC:Events for Župnija Lj.-Trnovo
BEGIN:VTIMEZONE
TZID:Europe/Ljubljana
BEGIN:DAYLIGHT
TZOFFSETFROM:+0100
TZOFFSETTO:+0200
TZNAME:CEST
DTSTART:20250330T010000
END:DAYLIGHT
BEGIN:STANDARD
TZOFFSETFROM:+0200
TZOFFSETTO:+0100
TZNAME:CET
DTSTART:20251026T010000
END:STANDARD
END:VTIMEZONE
BEGIN:VEVENT
DTSTART;TZID=Europe/Ljubljana:20250305T000000
DTEND;TZID=Europe/Ljubljana:20250305T235959
DTSTAMP:20260420T145049
CREATED:20250223T190706Z
LAST-MODIFIED:20250223T190707Z
UID:33075-1741132800-1741219199@zupnija.trnovo.info
SUMMARY:PEPELNICA\, strogi post
DESCRIPTION:PEPELNICA\, strogi post\, ob 19.00 pepelenje.
URL:https://zupnija.trnovo.info/dogodek/pepelnica-strogi-post-2/
END:VEVENT
END:VCALENDAR