BEGIN:VCALENDAR
VERSION:2.0
PRODID:-//Župnija Lj.-Trnovo - ECPv5.10.1//NONSGML v1.0//EN
CALSCALE:GREGORIAN
METHOD:PUBLISH
X-WR-CALNAME:Župnija Lj.-Trnovo
X-ORIGINAL-URL:https://zupnija.trnovo.info
X-WR-CALDESC:Events for Župnija Lj.-Trnovo
BEGIN:VTIMEZONE
TZID:Europe/Ljubljana
BEGIN:DAYLIGHT
TZOFFSETFROM:+0100
TZOFFSETTO:+0200
TZNAME:CEST
DTSTART:20250330T010000
END:DAYLIGHT
BEGIN:STANDARD
TZOFFSETFROM:+0200
TZOFFSETTO:+0100
TZNAME:CET
DTSTART:20251026T010000
END:STANDARD
END:VTIMEZONE
BEGIN:VEVENT
DTSTART;TZID=Europe/Ljubljana:20251129T100000
DTEND;TZID=Europe/Ljubljana:20251129T140000
DTSTAMP:20260420T144543
CREATED:20251124T055702Z
LAST-MODIFIED:20251124T060217Z
UID:35193-1764410400-1764424800@zupnija.trnovo.info
SUMMARY:Pletenje adventnih venčkov
DESCRIPTION:V soboto\, 29. novembra bo od 10. do 14. ure pod Paviljonom pletenje adventnih venčkov. Lepo vabljeni. Ob 19. uri pa se bo začela devetdnevnica pred praznikom Marije Brezmadežne. \n\n\n\n\n\n\n\nsdr
URL:https://zupnija.trnovo.info/dogodek/pletenje-adventnih-venckov/
CATEGORIES:Duhovnost in druženje
ATTACH;FMTTYPE=image/jpeg:https://zupnija.trnovo.info/wp-content/uploads/2022/11/IMG_20221126_111906_2-1.jpg
END:VEVENT
END:VCALENDAR