BEGIN:VCALENDAR
VERSION:2.0
PRODID:-//Župnija Lj.-Trnovo - ECPv5.10.1//NONSGML v1.0//EN
CALSCALE:GREGORIAN
METHOD:PUBLISH
X-WR-CALNAME:Župnija Lj.-Trnovo
X-ORIGINAL-URL:https://zupnija.trnovo.info
X-WR-CALDESC:Events for Župnija Lj.-Trnovo
BEGIN:VTIMEZONE
TZID:Europe/Ljubljana
BEGIN:DAYLIGHT
TZOFFSETFROM:+0100
TZOFFSETTO:+0200
TZNAME:CEST
DTSTART:20210328T010000
END:DAYLIGHT
BEGIN:STANDARD
TZOFFSETFROM:+0200
TZOFFSETTO:+0100
TZNAME:CET
DTSTART:20211031T010000
END:STANDARD
END:VTIMEZONE
BEGIN:VEVENT
DTSTART;TZID=Europe/Ljubljana:20210927T190000
DTEND;TZID=Europe/Ljubljana:20210927T210000
DTSTAMP:20260422T190634
CREATED:20210830T074830Z
LAST-MODIFIED:20210926T174240Z
UID:12519-1632769200-1632776400@zupnija.trnovo.info
SUMMARY:Pogovor z odraslimi - PRESTAVLJENO
DESCRIPTION:Pogovor z odraslimi je prestavljen na 4. oktober.
URL:https://zupnija.trnovo.info/dogodek/pogovor-z-odraslimi-3/
CATEGORIES:Duhovnost in druženje
END:VEVENT
END:VCALENDAR