BEGIN:VCALENDAR
VERSION:2.0
PRODID:-//Župnija Lj.-Trnovo - ECPv5.10.1//NONSGML v1.0//EN
CALSCALE:GREGORIAN
METHOD:PUBLISH
X-WR-CALNAME:Župnija Lj.-Trnovo
X-ORIGINAL-URL:https://zupnija.trnovo.info
X-WR-CALDESC:Events for Župnija Lj.-Trnovo
BEGIN:VTIMEZONE
TZID:Europe/Ljubljana
BEGIN:DAYLIGHT
TZOFFSETFROM:+0100
TZOFFSETTO:+0200
TZNAME:CEST
DTSTART:20230326T010000
END:DAYLIGHT
BEGIN:STANDARD
TZOFFSETFROM:+0200
TZOFFSETTO:+0100
TZNAME:CET
DTSTART:20231029T010000
END:STANDARD
END:VTIMEZONE
BEGIN:VEVENT
DTSTART;TZID=Europe/Ljubljana:20230327T190000
DTEND;TZID=Europe/Ljubljana:20230327T210000
DTSTAMP:20260422T170107
CREATED:20230303T122308Z
LAST-MODIFIED:20230303T122310Z
UID:25237-1679943600-1679950800@zupnija.trnovo.info
SUMMARY:POGOVOR ZA ODRASLE
DESCRIPTION:
URL:https://zupnija.trnovo.info/dogodek/pogovor-za-odrasle/
CATEGORIES:Kateheza za odrasle
END:VEVENT
END:VCALENDAR