BEGIN:VCALENDAR
VERSION:2.0
PRODID:-//Župnija Lj.-Trnovo - ECPv5.10.1//NONSGML v1.0//EN
CALSCALE:GREGORIAN
METHOD:PUBLISH
X-WR-CALNAME:Župnija Lj.-Trnovo
X-ORIGINAL-URL:https://zupnija.trnovo.info
X-WR-CALDESC:Events for Župnija Lj.-Trnovo
BEGIN:VTIMEZONE
TZID:Europe/Ljubljana
BEGIN:DAYLIGHT
TZOFFSETFROM:+0100
TZOFFSETTO:+0200
TZNAME:CEST
DTSTART:20260329T010000
END:DAYLIGHT
BEGIN:STANDARD
TZOFFSETFROM:+0200
TZOFFSETTO:+0100
TZNAME:CET
DTSTART:20261025T010000
END:STANDARD
END:VTIMEZONE
BEGIN:VEVENT
DTSTART;TZID=Europe/Ljubljana:20260313T080000
DTEND;TZID=Europe/Ljubljana:20260313T170000
DTSTAMP:20260422T215133
CREATED:20260307T080302Z
LAST-MODIFIED:20260307T080330Z
UID:35898-1773388800-1773421200@zupnija.trnovo.info
SUMMARY:Postni petek
DESCRIPTION:Mt 12\,28b-34Današnji križev pot lahko darujete za svoje sodelavke in sodelavce na delovnem mestu. Včasih spregledamo\, da je naše delovno mesto\, naš kolektiv\, kjer si služimo vsakdanji kruh\, prvo misijonsko področje\, kamor nas je\, ne slučajno\, postavil Bog. To poslanstvo bomo zmogli dobro opraviti\, če bomo zanje tudi molili. Vsak od njih ima svoje potrebe. Mnogih niti ne poznamo\, ker se ljudje težko odkrito odprejo. Križev pot\, ki jim ga bomo darovali\, bo naš pomemben prispevek njihovemu osebnemu duhovnemu življenju in življenju v kolektivu. Če so kakšne napetosti\, zadržanosti ali nerazumevanja\, je postni čas izjemna milostna priložnost\, da k temu kaj prispevamo. Prerok bi rekel: “Pogum\, Božje ljudstvo!”
URL:https://zupnija.trnovo.info/dogodek/postni-petek-3/
END:VEVENT
END:VCALENDAR