BEGIN:VCALENDAR
VERSION:2.0
PRODID:-//Župnija Lj.-Trnovo - ECPv5.10.1//NONSGML v1.0//EN
CALSCALE:GREGORIAN
METHOD:PUBLISH
X-WR-CALNAME:Župnija Lj.-Trnovo
X-ORIGINAL-URL:https://zupnija.trnovo.info
X-WR-CALDESC:Events for Župnija Lj.-Trnovo
BEGIN:VTIMEZONE
TZID:Europe/Ljubljana
BEGIN:DAYLIGHT
TZOFFSETFROM:+0100
TZOFFSETTO:+0200
TZNAME:CEST
DTSTART:20250330T010000
END:DAYLIGHT
BEGIN:STANDARD
TZOFFSETFROM:+0200
TZOFFSETTO:+0100
TZNAME:CET
DTSTART:20251026T010000
END:STANDARD
END:VTIMEZONE
BEGIN:VEVENT
DTSTART;TZID=Europe/Ljubljana:20250529T000000
DTEND;TZID=Europe/Ljubljana:20250529T235959
DTSTAMP:20260423T092251
CREATED:20250505T065400Z
LAST-MODIFIED:20250505T065401Z
UID:33634-1748476800-1748563199@zupnija.trnovo.info
SUMMARY:Praznik Gospodovega vnebohoda
DESCRIPTION:maši ob 8.00 in ob 19.00
URL:https://zupnija.trnovo.info/dogodek/praznik-gospodovega-vnebohoda/
CATEGORIES:Praznik
END:VEVENT
END:VCALENDAR