BEGIN:VCALENDAR
VERSION:2.0
PRODID:-//Župnija Lj.-Trnovo - ECPv5.10.1//NONSGML v1.0//EN
CALSCALE:GREGORIAN
METHOD:PUBLISH
X-WR-CALNAME:Župnija Lj.-Trnovo
X-ORIGINAL-URL:https://zupnija.trnovo.info
X-WR-CALDESC:Events for Župnija Lj.-Trnovo
BEGIN:VTIMEZONE
TZID:Europe/Ljubljana
BEGIN:DAYLIGHT
TZOFFSETFROM:+0100
TZOFFSETTO:+0200
TZNAME:CEST
DTSTART:20200329T010000
END:DAYLIGHT
BEGIN:STANDARD
TZOFFSETFROM:+0200
TZOFFSETTO:+0100
TZNAME:CET
DTSTART:20201025T010000
END:STANDARD
END:VTIMEZONE
BEGIN:VEVENT
DTSTART;VALUE=DATE:20201122
DTEND;VALUE=DATE:20201123
DTSTAMP:20260422T221847
CREATED:20201107T202506Z
LAST-MODIFIED:20201111T101641Z
UID:832-1606003200-1606089599@zupnija.trnovo.info
SUMMARY:Praznik Kristusa Kralja vesoljstva
DESCRIPTION:Za sklep cerkvenega leta nam Jezus podarja čudovito zgodbo o sodbi. Vsakogar bo vprašal: si mi dal jesti\, ko sem bil lačen\, si me odžejal\, ko sem imel suha usta\, si me sprejel\, ko sem prišel k tebi kot tujec\, si me oblekel\, ko me je zeblo\, si me obiskoval\, ko sem bil bolan in v zaporu? Kar si storil kateremukoli človeku\, si storil meni. Vstopi v večno življenje!
URL:https://zupnija.trnovo.info/dogodek/praznik-kristusa-kralja-vesoljstva/
CATEGORIES:IZPOSTAVLJENO
ATTACH;FMTTYPE=image/jpeg:https://zupnija.trnovo.info/wp-content/uploads/2020/11/Cerkev_JK.jpg
END:VEVENT
END:VCALENDAR