BEGIN:VCALENDAR
VERSION:2.0
PRODID:-//Župnija Lj.-Trnovo - ECPv5.10.1//NONSGML v1.0//EN
CALSCALE:GREGORIAN
METHOD:PUBLISH
X-WR-CALNAME:Župnija Lj.-Trnovo
X-ORIGINAL-URL:https://zupnija.trnovo.info
X-WR-CALDESC:Events for Župnija Lj.-Trnovo
BEGIN:VTIMEZONE
TZID:Europe/Ljubljana
BEGIN:DAYLIGHT
TZOFFSETFROM:+0100
TZOFFSETTO:+0200
TZNAME:CEST
DTSTART:20240331T010000
END:DAYLIGHT
BEGIN:STANDARD
TZOFFSETFROM:+0200
TZOFFSETTO:+0100
TZNAME:CET
DTSTART:20241027T010000
END:STANDARD
END:VTIMEZONE
BEGIN:VEVENT
DTSTART;TZID=Europe/Ljubljana:20240319T000000
DTEND;TZID=Europe/Ljubljana:20240319T235959
DTSTAMP:20260421T131111
CREATED:20240223T153954Z
LAST-MODIFIED:20240223T153955Z
UID:30429-1710806400-1710892799@zupnija.trnovo.info
SUMMARY:Praznik sv. Jožefa
DESCRIPTION:19. marca bo praznik sv. Jožefa. Maši bosta ob 8.00 in ob 19.00. Praznik je poseben dar za moške.
URL:https://zupnija.trnovo.info/dogodek/praznik-sv-jozefa/
CATEGORIES:Praznik
END:VEVENT
END:VCALENDAR