BEGIN:VCALENDAR
VERSION:2.0
PRODID:-//Župnija Lj.-Trnovo - ECPv5.10.1//NONSGML v1.0//EN
CALSCALE:GREGORIAN
METHOD:PUBLISH
X-WR-CALNAME:Župnija Lj.-Trnovo
X-ORIGINAL-URL:https://zupnija.trnovo.info
X-WR-CALDESC:Events for Župnija Lj.-Trnovo
BEGIN:VTIMEZONE
TZID:Europe/Ljubljana
BEGIN:DAYLIGHT
TZOFFSETFROM:+0100
TZOFFSETTO:+0200
TZNAME:CEST
DTSTART:20210328T010000
END:DAYLIGHT
BEGIN:STANDARD
TZOFFSETFROM:+0200
TZOFFSETTO:+0100
TZNAME:CET
DTSTART:20211031T010000
END:STANDARD
END:VTIMEZONE
BEGIN:VEVENT
DTSTART;TZID=Europe/Ljubljana:20211017T100000
DTEND;TZID=Europe/Ljubljana:20211017T120000
DTSTAMP:20260420T181525
CREATED:20211002T184320Z
LAST-MODIFIED:20211002T184348Z
UID:13748-1634464800-1634472000@zupnija.trnovo.info
SUMMARY:Praznovanje obletnic krstov
DESCRIPTION:Starše vabimo k zahvali za ta neizmerni Božji dar\, ki je bil podarjen otrokom.
URL:https://zupnija.trnovo.info/dogodek/praznovanje-obletnic-krstov/
END:VEVENT
END:VCALENDAR