BEGIN:VCALENDAR
VERSION:2.0
PRODID:-//Župnija Lj.-Trnovo - ECPv5.10.1//NONSGML v1.0//EN
CALSCALE:GREGORIAN
METHOD:PUBLISH
X-WR-CALNAME:Župnija Lj.-Trnovo
X-ORIGINAL-URL:https://zupnija.trnovo.info
X-WR-CALDESC:Events for Župnija Lj.-Trnovo
BEGIN:VTIMEZONE
TZID:Europe/Ljubljana
BEGIN:DAYLIGHT
TZOFFSETFROM:+0100
TZOFFSETTO:+0200
TZNAME:CEST
DTSTART:20200329T010000
END:DAYLIGHT
BEGIN:STANDARD
TZOFFSETFROM:+0200
TZOFFSETTO:+0100
TZNAME:CET
DTSTART:20201025T010000
END:STANDARD
END:VTIMEZONE
BEGIN:VEVENT
DTSTART;VALUE=DATE:20201115
DTEND;VALUE=DATE:20201116
DTSTAMP:20260422T221540
CREATED:20201107T202416Z
LAST-MODIFIED:20201111T101705Z
UID:830-1605398400-1605484799@zupnija.trnovo.info
SUMMARY:Predzadnja nedelja v cerkvenem letu
DESCRIPTION:Ni pomembno koliko talentov si prejel. Pomembneje je\, kaj si z njimi delal? Življenje smo prejeli zato\, da bi ga živeli za druge. To je edino pravo razumevanje zastonjskega daru življenja. To je največji talent\, vsak človek ga ima. Naj ga ne živimo zase\, da ne bomo vrženi v najglobljo temo (prim. Mt 25\,30).
URL:https://zupnija.trnovo.info/dogodek/predzadnja-nedelja-v-cerkvenem-letu/
CATEGORIES:IZPOSTAVLJENO
ATTACH;FMTTYPE=image/jpeg:https://zupnija.trnovo.info/wp-content/uploads/2020/11/Cerkev_JK.jpg
END:VEVENT
END:VCALENDAR