BEGIN:VCALENDAR
VERSION:2.0
PRODID:-//Župnija Lj.-Trnovo - ECPv5.10.1//NONSGML v1.0//EN
CALSCALE:GREGORIAN
METHOD:PUBLISH
X-WR-CALNAME:Župnija Lj.-Trnovo
X-ORIGINAL-URL:https://zupnija.trnovo.info
X-WR-CALDESC:Events for Župnija Lj.-Trnovo
BEGIN:VTIMEZONE
TZID:Europe/Ljubljana
BEGIN:DAYLIGHT
TZOFFSETFROM:+0100
TZOFFSETTO:+0200
TZNAME:CEST
DTSTART:20230326T010000
END:DAYLIGHT
BEGIN:STANDARD
TZOFFSETFROM:+0200
TZOFFSETTO:+0100
TZNAME:CET
DTSTART:20231029T010000
END:STANDARD
END:VTIMEZONE
BEGIN:VEVENT
DTSTART;TZID=Europe/Ljubljana:20230910T100000
DTEND;TZID=Europe/Ljubljana:20230910T110000
DTSTAMP:20260422T195046
CREATED:20230906T064556Z
LAST-MODIFIED:20230906T064558Z
UID:27815-1694340000-1694343600@zupnija.trnovo.info
SUMMARY:PRIČETEK PASTORALNEGA IN KATEHETSKEGA LETA
DESCRIPTION:
URL:https://zupnija.trnovo.info/dogodek/pricetek-pastoralnega-in-katehetskega-leta/
END:VEVENT
END:VCALENDAR