BEGIN:VCALENDAR
VERSION:2.0
PRODID:-//Župnija Lj.-Trnovo - ECPv5.10.1//NONSGML v1.0//EN
CALSCALE:GREGORIAN
METHOD:PUBLISH
X-WR-CALNAME:Župnija Lj.-Trnovo
X-ORIGINAL-URL:https://zupnija.trnovo.info
X-WR-CALDESC:Events for Župnija Lj.-Trnovo
BEGIN:VTIMEZONE
TZID:Europe/Ljubljana
BEGIN:DAYLIGHT
TZOFFSETFROM:+0100
TZOFFSETTO:+0200
TZNAME:CEST
DTSTART:20240331T010000
END:DAYLIGHT
BEGIN:STANDARD
TZOFFSETFROM:+0200
TZOFFSETTO:+0100
TZNAME:CET
DTSTART:20241027T010000
END:STANDARD
END:VTIMEZONE
BEGIN:VEVENT
DTSTART;TZID=Europe/Ljubljana:20241208T100000
DTEND;TZID=Europe/Ljubljana:20241208T110000
DTSTAMP:20260423T204416
CREATED:20241201T083721Z
LAST-MODIFIED:20241201T083723Z
UID:32627-1733652000-1733655600@zupnija.trnovo.info
SUMMARY:PRIHOD SV. MIKLAVŽA
DESCRIPTION:
URL:https://zupnija.trnovo.info/dogodek/prihod-sv-miklavza/
END:VEVENT
END:VCALENDAR