BEGIN:VCALENDAR
VERSION:2.0
PRODID:-//Župnija Lj.-Trnovo - ECPv5.10.1//NONSGML v1.0//EN
CALSCALE:GREGORIAN
METHOD:PUBLISH
X-WR-CALNAME:Župnija Lj.-Trnovo
X-ORIGINAL-URL:https://zupnija.trnovo.info
X-WR-CALDESC:Events for Župnija Lj.-Trnovo
BEGIN:VTIMEZONE
TZID:Europe/Ljubljana
BEGIN:DAYLIGHT
TZOFFSETFROM:+0100
TZOFFSETTO:+0200
TZNAME:CEST
DTSTART:20240331T010000
END:DAYLIGHT
BEGIN:STANDARD
TZOFFSETFROM:+0200
TZOFFSETTO:+0100
TZNAME:CET
DTSTART:20241027T010000
END:STANDARD
END:VTIMEZONE
BEGIN:VEVENT
DTSTART;TZID=Europe/Ljubljana:20240420T090000
DTEND;TZID=Europe/Ljubljana:20240420T100000
DTSTAMP:20260424T172212
CREATED:20240404T051753Z
LAST-MODIFIED:20240404T051755Z
UID:30818-1713603600-1713607200@zupnija.trnovo.info
SUMMARY:Prva sveta spoved za kandidate za prvo obhajilo
DESCRIPTION:
URL:https://zupnija.trnovo.info/dogodek/prva-sveta-spoved-za-kandidate-za-prvo-obhajilo/
END:VEVENT
END:VCALENDAR